BEGIN:VCALENDAR
VERSION:2.0
PRODID:-//ChamberMaster//Event Calendar 2.0//EN
METHOD:PUBLISH
X-PUBLISHED-TTL:P3D
REFRESH-INTERVAL:P3D
CALSCALE:GREGORIAN
BEGIN:VEVENT
DTSTART:20190926T123000Z
DTEND:20190926T140000Z
X-MICROSOFT-CDO-ALLDAYEVENT:FALSE
SUMMARY:Business Before Hours
DESCRIPTION:Start your morning off right with a chance to mingle and network before work! This is a free member event with coffee\, juice and a continental breakfast provided. For September\, we will be at the Independence location for Rachel House Pregnancy Center.
X-ALT-DESC;FMTTYPE=text/html:Start your morning off right with a chance to mingle and network before work! This is a free member event with coffee\, juice and a continental breakfast provided. For September\, we will be at the Independence location for Rachel House Pregnancy Center.
LOCATION:Rachel House Pregnancy Center
UID:e.2043.8361
SEQUENCE:3
DTSTAMP:20260425T030730Z
URL:https://business.ichamber.biz/events/details/business-before-hours-8361
END:VEVENT

END:VCALENDAR
