BEGIN:VCALENDAR
VERSION:2.0
PRODID:-//ChamberMaster//Event Calendar 2.0//EN
METHOD:PUBLISH
X-PUBLISHED-TTL:P3D
REFRESH-INTERVAL:P3D
CALSCALE:GREGORIAN
BEGIN:VEVENT
DTSTART:20180927T123000Z
DTEND:20180927T140000Z
X-MICROSOFT-CDO-ALLDAYEVENT:FALSE
SUMMARY:Business Before Hours at Hawthorn Bed & Breakfast
DESCRIPTION:We hope you can join us for the Business Before Hours at Hawthorn Bed & Breakfast!\n\n\n\nBusiness Before Hours is a free event for our members. It gives them a chance to mingle and network before work. There will be coffee/juice and a continental breakfast provided.
X-ALT-DESC;FMTTYPE=text/html:<p style="margin: 0px\; padding: 4px 0px 10px\; border: 0px\; font-size: 14px\; vertical-align: baseline\; color: rgb(51\, 51\, 51)\; line-height: 18px\; font-family: Arial\, Helvetica\, sans-serif\;"><span style="color: rgb(0\, 0\, 0)\; font-family: arial\; font-size: 14px\;">We hope you can join us for the Business Before Hours at Hawthorn Bed &amp\; Breakfast!<br />\n<br />\nBusiness Before Hours is a free event for our members. It gives them a chance to mingle and network before work. There will be coffee/juice and a continental breakfast provided.</span></p>\n\n<p style="margin: 0px\; padding: 4px 0px 10px\; border: 0px\; font-size: 14px\; vertical-align: baseline\; color: rgb(51\, 51\, 51)\; line-height: 18px\; font-family: Arial\, Helvetica\, sans-serif\;">&nbsp\;</p>\n
LOCATION:Hawthorn Bed & Breakfast 1 Hawthorne Pl\, Independence\, MO 64052
UID:e.2043.5481
SEQUENCE:3
DTSTAMP:20260424T115746Z
URL:https://business.ichamber.biz/events/details/business-before-hours-at-hawthorn-bed-breakfast-5481
END:VEVENT

END:VCALENDAR
