BEGIN:VCALENDAR
VERSION:2.0
PRODID:-//ChamberMaster//Event Calendar 2.0//EN
METHOD:PUBLISH
X-PUBLISHED-TTL:P3D
REFRESH-INTERVAL:P3D
CALSCALE:GREGORIAN
BEGIN:VEVENT
DTSTART:20180322T123000Z
DTEND:20180322T140000Z
X-MICROSOFT-CDO-ALLDAYEVENT:FALSE
SUMMARY:Business Before Hours at HEMCO Corporation: 60th Anniversary
DESCRIPTION:Come join us for Business Before Hours at HEMCO Corporation as they celebrate their 60th Anniversary! \n\n*Continental Breakfast \n\n*Coffee/Juice \n\n*Tours \n\n\n\nBusiness Before Hours is a free event. It gives them a chance to mingle and network before work.
X-ALT-DESC;FMTTYPE=text/html:<span style="color: rgb(0\, 0\, 0)\;">Come join us for Business Before Hours at HEMCO Corporation&nbsp\;as they celebrate their 60th Anniversary!&nbsp\;<br />\n*Continental Breakfast&nbsp\;<br />\n*Coffee/Juice&nbsp\;<br />\n*Tours&nbsp\;</span><br style="color: rgb(0\, 0\, 0)\; font-family: arial\; font-size: 14px\;" />\n<br style="color: rgb(0\, 0\, 0)\; font-family: arial\; font-size: 14px\;" />\n<span style="color: rgb(0\, 0\, 0)\;">Business Before Hours is a free event. It gives them a chance to mingle and network before work.&nbsp\;</span>
LOCATION:HEMCO Corporation 711 S. Powell Road Independence\, MO 64056
UID:e.2043.5475
SEQUENCE:3
DTSTAMP:20260424T045353Z
URL:https://business.ichamber.biz/events/details/business-before-hours-at-hemco-corporation-60th-anniversary-5475
END:VEVENT

END:VCALENDAR
