BEGIN:VCALENDAR
VERSION:2.0
PRODID:-//ChamberMaster//Event Calendar 2.0//EN
METHOD:PUBLISH
X-PUBLISHED-TTL:P3D
REFRESH-INTERVAL:P3D
CALSCALE:GREGORIAN
BEGIN:VEVENT
DTSTART:20180524T123000Z
DTEND:20180524T140000Z
X-MICROSOFT-CDO-ALLDAYEVENT:FALSE
SUMMARY:Business Before Hours at Terra Health & Wellness Market
DESCRIPTION:We hope you can join us at Business Before Hours at Terra Health & Wellness Market!\n\n\n\nBusiness Before Hours is a free event for our members. It gives them a chance to mingle and network before work. There will be coffee/juice and a continental breakfast provided.\n\n*Breakfast\, Raffle Prize Giveaway and more!
X-ALT-DESC;FMTTYPE=text/html:<p style="margin: 0px\; padding: 4px 0px 10px\; border: 0px\; font-size: 14px\; vertical-align: baseline\; color: rgb(51\, 51\, 51)\; line-height: 18px\; font-family: Arial\, Helvetica\, sans-serif\;"><span style="color: rgb(0\, 0\, 0)\; font-family: arial\; font-size: 14px\;">We hope you can join us at Business Before Hours at Terra Health &amp\; Wellness Market!</span><br />\n<br />\n<span style="color: rgb(0\, 0\, 0)\; font-family: arial\; font-size: 14px\;">Business Before Hours is a free event for our members. It gives them a chance to mingle and network before work. There will be coffee/juice and a continental breakfast provided.<br />\n*Breakfast\,&nbsp\;Raffle Prize Giveaway and more!</span></p>\n\n<p style="margin: 0px\; padding: 4px 0px 10px\; border: 0px\; font-size: 14px\; vertical-align: baseline\; color: rgb(51\, 51\, 51)\; line-height: 18px\; font-family: Arial\, Helvetica\, sans-serif\;">&nbsp\;</p>\n
LOCATION:Terra Health & Wellness Market 19800 E Jackson Dr\, Independence\, MO 64057
UID:e.2043.5477
SEQUENCE:3
DTSTAMP:20260424T065945Z
URL:https://business.ichamber.biz/events/details/business-before-hours-at-terra-health-wellness-market-5477
END:VEVENT

END:VCALENDAR
