BEGIN:VCALENDAR
VERSION:2.0
PRODID:-//ChamberMaster//Event Calendar 2.0//EN
METHOD:PUBLISH
X-PUBLISHED-TTL:P3D
REFRESH-INTERVAL:P3D
CALSCALE:GREGORIAN
BEGIN:VEVENT
DTSTART:20170823T123000Z
DTEND:20170823T140000Z
X-MICROSOFT-CDO-ALLDAYEVENT:FALSE
SUMMARY:Business Before Hours: Cable Dahmer Buick GMC Cadillac
DESCRIPTION:Come join us for Business Before Hours at Cable Dahmer Buick GMC Cadillac! \n\n\n\nBusiness Before Hours is a free event for our members. It gives them a chance to mingle and network before work. There will be coffee/juice and a continental breakfast provided.
X-ALT-DESC;FMTTYPE=text/html:<span style="color: rgb(0\, 0\, 0)\; font-family: arial\; font-size: 14px\;">Come join us for Business Before Hours at Cable Dahmer Buick GMC Cadillac!&nbsp\;<br />\n<br />\nBusiness Before Hours is a free event for our members. It gives them a chance to mingle and network before work. There will be coffee/juice and a continental breakfast provided.</span>
LOCATION:Cable Dahmer Buick GMC Cadillac 3107 S. Noland Rd. Independence\, MO 64055
UID:e.2043.4301
SEQUENCE:3
DTSTAMP:20260424T113431Z
URL:https://business.ichamber.biz/events/details/business-before-hours-cable-dahmer-buick-gmc-cadillac-08-23-2017-4301
END:VEVENT

END:VCALENDAR
