BEGIN:VCALENDAR
VERSION:2.0
PRODID:-//ChamberMaster//Event Calendar 2.0//EN
METHOD:PUBLISH
X-PUBLISHED-TTL:P3D
REFRESH-INTERVAL:P3D
CALSCALE:GREGORIAN
BEGIN:VEVENT
DTSTART:20170207T133000Z
DTEND:20170207T150000Z
X-MICROSOFT-CDO-ALLDAYEVENT:FALSE
SUMMARY:Business Before Hours - Drury Inn
DESCRIPTION:Join your Chamber friends for this Business Before Hours at The Drury Inn
X-ALT-DESC;FMTTYPE=text/html:Join your Chamber friends for this Business Before Hours at The Drury Inn&nbsp\;&nbsp\;&nbsp\;&nbsp\;&nbsp\;&nbsp\;&nbsp\;&nbsp\;&nbsp\;&nbsp\;&nbsp\;&nbsp\;&nbsp\;&nbsp\;&nbsp\;&nbsp\;&nbsp\;&nbsp\;&nbsp\;&nbsp\;&nbsp\;&nbsp\;&nbsp\;&nbsp\;
LOCATION:20300 E. 42nd St. South Blue Springs\, MO 64015
UID:e.2043.3603
SEQUENCE:3
DTSTAMP:20260424T192049Z
URL:https://business.ichamber.biz/events/details/business-before-hours-drury-inn-02-07-2017-3603
END:VEVENT

END:VCALENDAR
