BEGIN:VCALENDAR
VERSION:2.0
PRODID:-//ChamberMaster//Event Calendar 2.0//EN
METHOD:PUBLISH
X-PUBLISHED-TTL:P3D
REFRESH-INTERVAL:P3D
CALSCALE:GREGORIAN
BEGIN:VEVENT
DTSTART:20170927T123000Z
DTEND:20170927T140000Z
X-MICROSOFT-CDO-ALLDAYEVENT:FALSE
SUMMARY:Business Before Hours: Staybridge Suites
DESCRIPTION:Come join us for Business Before Hours at Staybridge Suites!\n\n\n\nBusiness Before Hours is a free event for our members. It gives them a chance to mingle and network before work. There will be coffee/juice and a continental breakfast provided.
X-ALT-DESC;FMTTYPE=text/html:<span style="color: rgb(0\, 0\, 0)\; font-family: arial\; font-size: 14px\;">Come join us for Business Before Hours at Staybridge&nbsp\;Suites!<br />\n<br />\nBusiness Before Hours is a free event for our members. It gives them a chance to mingle and network before work. There will be coffee/juice and a continental breakfast provided.</span>
LOCATION:Staybridge Suites 19400 E. 39th St. S. Independence\, MO 64057
UID:e.2043.5279
SEQUENCE:3
DTSTAMP:20260424T100957Z
URL:https://business.ichamber.biz/events/details/business-before-hours-staybridge-suites-09-27-2017-5279
END:VEVENT

END:VCALENDAR
