BEGIN:VCALENDAR
VERSION:2.0
PRODID:-//ChamberMaster//Event Calendar 2.0//EN
METHOD:PUBLISH
X-PUBLISHED-TTL:P3D
REFRESH-INTERVAL:P3D
CALSCALE:GREGORIAN
BEGIN:VEVENT
DTSTART:20140911T130000Z
DTEND:20140911T140000Z
X-MICROSOFT-CDO-ALLDAYEVENT:FALSE
SUMMARY:Business Leads Exchange
DESCRIPTION:Walk and talk through issues\, accomplishments\, endeavors and operations with fellow Chamber members to help improve your business and create valuable relationships you can't find anywhere else\n\n\n\nThe monthly Business Leads Exchange program was created to help Chamber members gain quality leads for goods and services from fellow members through focused networking and structured discussions of issues facing most business enterprises..\n\nRegister below today!\n\nIf you are not a Chamber Member\, please email Jeff@iChamber.biz to register.\n\n\n\n"By attending the Business Leads Exchange this week I'm going to save 45% on the cost of the ink by purchasing through Laser Cycle one of our members that attended on Thursday's meeting.  This helps promote our members and shows the value of attending events. "\n\n-Mary House\, Cruise Planners-
X-ALT-DESC;FMTTYPE=text/html:<p style="line-height: 18px\; margin: 0px\; padding: 4px 0px 10px\; color: rgb(51\, 51\, 51)\; font-family: Arial\, Helvetica\, sans-serif\; font-size: 14px\;">Walk and talk through issues\, accomplishments\, endeavors and operations with fellow Chamber members to help improve your business and create valuable relationships you can&rsquo\;t find anywhere else<br />\n<br />\nThe monthly&nbsp\;<strong>Business Leads Exchange&nbsp\;</strong>program&nbsp\;was created to help Chamber members gain quality leads for goods and services from fellow members through focused networking and&nbsp\;structured&nbsp\;discussions of issues facing most business&nbsp\;enterprises..</p>\n\n<p style="line-height: 18px\; margin: 0px\; padding: 4px 0px 10px\; color: rgb(51\, 51\, 51)\; font-family: Arial\, Helvetica\, sans-serif\; font-size: 14px\;">Register below today!</p>\n\n<p style="line-height: 18px\; margin: 0px\; padding: 4px 0px 10px\; color: rgb(51\, 51\, 51)\; font-family: Arial\, Helvetica\, sans-serif\; font-size: 14px\;">If you are not a Chamber Member\, please email Jeff@iChamber.biz to register.<br />\n<br />\n<em>&quot\;By attending the Business Leads Exchange this week I&#39\;m going to save 45% on the cost of the ink by purchasing through Laser Cycle one of our members that attended on Thursday&#39\;s meeting.&nbsp\; This helps promote our members and shows the value of attending events. &quot\;<br />\n-Mary House\, Cruise Planners-</em></p>\n
LOCATION:
UID:e.2043.280
SEQUENCE:3
DTSTAMP:20260426T041643Z
URL:https://business.ichamber.biz/events/details/business-leads-exchange-09-11-2014-280
END:VEVENT

END:VCALENDAR
