BEGIN:VCALENDAR
VERSION:2.0
PRODID:-//ChamberMaster//Event Calendar 2.0//EN
METHOD:PUBLISH
X-PUBLISHED-TTL:P3D
REFRESH-INTERVAL:P3D
CALSCALE:GREGORIAN
BEGIN:VEVENT
DTSTART:20180626T230000Z
DTEND:20180627T010000Z
X-MICROSOFT-CDO-ALLDAYEVENT:FALSE
SUMMARY:Candidate Forum for the 21st District MO House Representative
DESCRIPTION:MEET THE CANDIDATES!\n\nRobert Sauls\n\nDan O'Neill\n\nHolmes Osborne\n\n\n\n\nCLICK HERE TO VIEW THE MAP OF DISTRICT 21\n\n\n\n \n\nPRESENTERS/HOSTS:\n\nIndependence Chamber of Commerce and Mid-Continent Public Library North Independence.  To submit questions for the candidates\, please email Lois McDonald - lois@ichamber.biz
X-ALT-DESC;FMTTYPE=text/html:<h2 20px="" background-color:="" color:="" font-size:="" font-weight:="" helvetica="" letter-spacing:="" line-height:="" margin:="" max-width:="" style="box-sizing: border-box\;" text-align:=""><span style="font-size:16px\;"><strong>MEET THE </strong></span><strong><span style="font-size:16px\;">CAND</span></strong><span style="font-size:16px\;"><strong>IDATES</strong><strong>!</strong></span></h2>\n\n<p style="margin: 6px 0px\; font-family: Helvetica\, Arial\, sans-serif\; color: rgb(29\, 33\, 41)\; font-size: 14px\;"><span style="font-size:16px\;">Robert Sauls<br />\nDan O&#39\;Neill<br />\nHolmes Osborne</span></p>\n\n<div class="text_exposed_show" style="display: inline\; font-family: Helvetica\, Arial\, sans-serif\; color: rgb(29\, 33\, 41)\; font-size: 14px\;">\n<p style="margin: 0px 0px 6px\; font-family: inherit\;"><br />\n<strong><span style="font-size:18px\;"><a href="https://house.mo.gov/districtmap.aspx?district=021">CLICK HERE TO VIEW THE MAP OF DISTRICT 21</a></span></strong></p>\n</div>\n\n<div class="text_exposed_show" style="display: inline\; font-family: Helvetica\, Arial\, sans-serif\; color: rgb(29\, 33\, 41)\; font-size: 14px\;">\n<p style="margin: 0px 0px 6px\; font-family: inherit\;">&nbsp\;</p>\n\n<p style="margin: 6px 0px\; font-family: inherit\;"><span style="font-size:16px\;"><strong>PRESENTERS/HOSTS:</strong></span><br />\nIndependence Chamber of Commerce and Mid-Continent Public Library North Independence.&nbsp\; To submit questions for the candidates\, please email Lois McDonald - lois@ichamber.biz</p>\n</div>\n
LOCATION:Mid-Continent Public Library North Independence 317 W. 24 Hwy. Independence\, MO 64050
UID:e.2043.8342
SEQUENCE:3
DTSTAMP:20260424T081740Z
URL:https://business.ichamber.biz/events/details/candidate-forum-for-the-21st-district-mo-house-representative-8342
END:VEVENT

END:VCALENDAR
