BEGIN:VCALENDAR
VERSION:2.0
PRODID:-//ChamberMaster//Event Calendar 2.0//EN
METHOD:PUBLISH
X-PUBLISHED-TTL:P3D
REFRESH-INTERVAL:P3D
CALSCALE:GREGORIAN
BEGIN:VEVENT
DTSTART:20260430T200000Z
DTEND:20260430T230000Z
X-MICROSOFT-CDO-ALLDAYEVENT:FALSE
SUMMARY:Career and Job Fair
DESCRIPTION:Join Us at the Career & Job Fair!\n\nLooking for your next big opportunity? Come hang out with tons of awesome companies ready to meet you in person! Whether you're fresh outta school or just looking for a fresh start\, this is the place to network\, learn\, and maybe even score that dream job. Don't miss out on meeting recruiters face-to-face and discovering exciting career paths!
X-ALT-DESC;FMTTYPE=text/html:<h2><a href="https://www.eventbrite.com/e/career-job-fair-tickets-1985556653400?aff=ebdssbdestsearch">Join Us at the Career &amp\; Job Fair!</a></h2>\n\n<p>Looking for your next big opportunity? Come hang out with tons of awesome companies ready to meet you in person! Whether you&#39\;re fresh outta school or just looking for a fresh start\, this is the place to network\, learn\, and maybe even score that dream job. Don&rsquo\;t miss out on meeting recruiters face-to-face and discovering exciting career paths!</p>\n
LOCATION:Independence Center 18801 E. 39th Street Independence\, MO 64057
UID:e.2043.19784
SEQUENCE:3
DTSTAMP:20260420T075035Z
URL:https://business.ichamber.biz/events/details/career-and-job-fair-19784
END:VEVENT

END:VCALENDAR
