BEGIN:VCALENDAR
VERSION:2.0
PRODID:-//ChamberMaster//Event Calendar 2.0//EN
METHOD:PUBLISH
X-PUBLISHED-TTL:P3D
REFRESH-INTERVAL:P3D
CALSCALE:GREGORIAN
BEGIN:VEVENT
DTSTART:20190422T130000Z
DTEND:20190423T020000Z
X-MICROSOFT-CDO-ALLDAYEVENT:FALSE
SUMMARY:Celebrate Earth Day with Terra!
DESCRIPTION:Join us in honoring Earth Day...which is really every day but we love a reason to celebrate!\n\n\n\nEnter in store for a chance to win the " Dream Green Earthling" gift bundle\, full of staff & customer favorites!\n\n\n\nPlus...\n\n*take home a free reusable Terra shopping bag with purchase of $100 or more before taxes\n\n*enjoy tasty\, vegan snacks throughout the store\n\n*meet & greet local vendors\n\n*take advantage of April specials before they expire\n\n\n\nWe are also extending our store hours for the warmer months so you can shop longer! Starting the 22nd\, we will be open Mon-Sat 8 am to 9 pm and Sun 10 am to 7 pm.
X-ALT-DESC;FMTTYPE=text/html:<strong><span style="background-color:transparent\; color:rgb(29\, 33\, 41)\; font-family:helvetica\,arial\,sans-serif\; font-size:14px">Join us in honoring Earth Day...which is really every day but we love a reason to celebrate!</span></strong><br />\n<br />\n<span style="background-color:transparent\; color:rgb(29\, 33\, 41)\; font-family:helvetica\,arial\,sans-serif\; font-size:14px">Enter in store for a chance to win the &quot\; Dream Green Earthling&quot\; gift bundle\, full of staff &amp\; customer favorites!</span><br />\n<br />\n<span style="background-color:transparent\; color:rgb(29\, 33\, 41)\; font-family:helvetica\,arial\,sans-serif\; font-size:14px">Plus...</span><br />\n<span style="background-color:transparent\; color:rgb(29\, 33\, 41)\; font-family:helvetica\,arial\,sans-serif\; font-size:14px">*take home a free reusable Terra shopping bag with purchase of $100 or more before taxes</span><br />\n<span style="background-color:transparent\; color:rgb(29\, 33\, 41)\; font-family:helvetica\,arial\,sans-serif\; font-size:14px">*enjoy tasty\, vegan snacks throughout the store</span><br />\n<span style="background-color:transparent\; color:rgb(29\, 33\, 41)\; font-family:helvetica\,arial\,sans-serif\; font-size:14px">*meet &amp\; greet local vendors</span><br />\n<span style="background-color:transparent\; color:rgb(29\, 33\, 41)\; font-family:helvetica\,arial\,sans-serif\; font-size:14px">*take advantage of April specials before they expire</span><br />\n<br />\n<strong><span style="background-color:transparent\; color:rgb(29\, 33\, 41)\; font-family:helvetica\,arial\,sans-serif\; font-size:14px">We are also extending our store hours for the warmer months so you can shop longer! Starting the 22nd\, we will be open Mon-Sat 8 am to 9 pm and Sun 10 am to 7 pm.</span></strong>
LOCATION:Terra Health & Wellness Market Conveniently located just off I-70 and Little Blue Parkway\, in the same shopping venter as Bed\, Bath & Beyond and World Market.
UID:e.2043.9523
SEQUENCE:3
DTSTAMP:20260424T223734Z
URL:https://business.ichamber.biz/events/details/celebrate-earth-day-with-terra-9523
END:VEVENT

END:VCALENDAR
