BEGIN:VCALENDAR
VERSION:2.0
PRODID:-//ChamberMaster//Event Calendar 2.0//EN
METHOD:PUBLISH
X-PUBLISHED-TTL:P3D
REFRESH-INTERVAL:P3D
CALSCALE:GREGORIAN
BEGIN:VEVENT
DTSTART:20190227T220000Z
DTEND:20190227T230000Z
X-MICROSOFT-CDO-ALLDAYEVENT:FALSE
SUMMARY:Chairman's Book Club Meeting
DESCRIPTION:Everyone who is a member of the Chamber is welcome to join the Chamber Book Club! Join fellow Chamber members as we partcipate in a book club featuring topics relating to business development\, leadership\, and personal development. Please contact Sarah Beth Wood for information about the book of the month and information about how to check out a book for free from the Chamber.
X-ALT-DESC;FMTTYPE=text/html:Everyone who is a member of the Chamber is welcome to join the Chamber Book Club! Join fellow Chamber members as we partcipate in a book club featuring topics relating to business development\, leadership\, and personal development. Please contact Sarah Beth Wood for information about the book of the month and information about how to check out a book for free from the Chamber.&nbsp\;
LOCATION:Independence Chamber of Commerce 210 W. Truman Road Independence\, MO 64050
UID:e.2043.8455
SEQUENCE:3
DTSTAMP:20260424T183957Z
URL:https://business.ichamber.biz/events/details/chairman-s-book-club-meeting-02-27-2019-8455
END:VEVENT

END:VCALENDAR
