BEGIN:VCALENDAR
VERSION:2.0
PRODID:-//ChamberMaster//Event Calendar 2.0//EN
METHOD:PUBLISH
X-PUBLISHED-TTL:P3D
REFRESH-INTERVAL:P3D
CALSCALE:GREGORIAN
BEGIN:VEVENT
DTSTART:20181024T210000Z
DTEND:20181024T220000Z
X-MICROSOFT-CDO-ALLDAYEVENT:FALSE
SUMMARY:Chairman's Book Club Meeting
DESCRIPTION:Join fellow Chamber members as we partcipate in a book club featuring topics relating to business development\, leadership\, and personal development.  This is our 2nd meeting and we will be discussing the book "Option B" by Sheryl Sandberg.
X-ALT-DESC;FMTTYPE=text/html:Join fellow Chamber members as we partcipate in a book club featuring topics relating to business development\, leadership\, and personal development.&nbsp\; This is our 2nd meeting and we will be discussing the book &quot\;Option B&quot\; by Sheryl Sandberg.&nbsp\;&nbsp\;
LOCATION:Independence Chamber of Commerce 210 W. Truman Road Independence\, MO 64050
UID:e.2043.8451
SEQUENCE:3
DTSTAMP:20260424T132206Z
URL:https://business.ichamber.biz/events/details/chairman-s-book-club-meeting-10-24-2018-8451
END:VEVENT

END:VCALENDAR
