BEGIN:VCALENDAR
VERSION:2.0
PRODID:-//ChamberMaster//Event Calendar 2.0//EN
METHOD:PUBLISH
X-PUBLISHED-TTL:P3D
REFRESH-INTERVAL:P3D
CALSCALE:GREGORIAN
BEGIN:VEVENT
DTSTART:20180816T210000Z
DTEND:20180816T220000Z
X-MICROSOFT-CDO-ALLDAYEVENT:FALSE
SUMMARY:Chairman's Book Club Meeting
DESCRIPTION:Join fellow Chamber members as we partcipate in a book club featuring topics relating to business development\, leadership\, and personal development.  This is our initial meeting and the book "Leaders Eat Last" by Simon Sinek will be our first book.  Discussion on the book will follow in September.
X-ALT-DESC;FMTTYPE=text/html:Join fellow Chamber members as we partcipate in a book club featuring topics relating to business development\, leadership\, and personal development.&nbsp\; This is our initial meeting and the book &quot\;Leaders Eat Last&quot\; by Simon Sinek will be our first book.&nbsp\; Discussion on the book will follow in September.
LOCATION:Independence Chamber of Commerce 210 W. Truman Road Independence\, MO 64050
UID:e.2043.8420
SEQUENCE:3
DTSTAMP:20260424T104618Z
URL:https://business.ichamber.biz/events/details/chairman-s-book-club-meeting-8420
END:VEVENT

END:VCALENDAR
