BEGIN:VCALENDAR
VERSION:2.0
PRODID:-//ChamberMaster//Event Calendar 2.0//EN
METHOD:PUBLISH
X-PUBLISHED-TTL:P3D
REFRESH-INTERVAL:P3D
CALSCALE:GREGORIAN
BEGIN:VEVENT
DTSTART:20180518T120000Z
DTEND:20180518T200000Z
X-MICROSOFT-CDO-ALLDAYEVENT:FALSE
SUMMARY:Chamber Golf Classic
DESCRIPTION:Join us for the 38th Annual Chamber Golf Classic! \n\nThis is one of the Chambers best opportunities to network with business leaders and golf with clients and associates while genuinely having a great time.\n\nParticipants will enjoy breakfast catered by The Big Biscuit\, lunch provided\, contests\, 50/50 Raffle\, prizes and more! \n\n\n\n If you would like to be part of the fun but you don't want to golf\, volunteer!! Sign up here: http://business.ichamber.biz/form/view/11504\n\n\n\n Chamber Members:\n\n$500/team Early Bird pricing. $550/team after May 3rd\n\n$150 individual\n\n\n\nNon-Member:\n\n$600/team Early Bird pricing. $650/team after May 3rd\n\n$175/individual\n\n\n\n(Team fees include- green fees\, cart\, breakfast\, lunch\, snacks\, soft drinks and beer.)\n\n\n\nSponsorships Available\n\n	$3000 Presenting Sponsor- Opportunity for company rep to present the awards at the reception\, one foursome\, game package deal\, Prominent logo recognition on: event banner & signage\, sleeve of golf balls given to every player\, game score card\, newsletter\, website\, Eblasts\, tournament event program and social media.\n	$1000 50/50 Raffle Sponsor- SOLD\n	$500 Snack Sponsor- Area on the course to personally hand out snacks and talk with golfers\, snacks are purchased by the chamber and will be individually labeled with your logo\, logo recognition on: signage at registration\, event program and website.\n	$500 Cart Sponsor- Business name on 33 golf carts\, event program and website\n	$300 Beverage Cart Sponsor- SOLD\n	$250 Putting Contest Sponsor- SOLD\n	$250 Goofy Skirt Hole Sponsor- SOLD\n	$150 Hole Sponsors- SOLD OUT
X-ALT-DESC;FMTTYPE=text/html:<span font-size:="" style="color: rgb(51\, 51\, 51)\; font-family: sans-serif\, Arial\, Verdana\, " trebuchet=""><span style="line-height: 20.8px\;"><strong>Join us for the&nbsp\;38th&nbsp\;Annual Chamber Golf Classic!&nbsp\;</strong></span></span><br font-size:="" style="color: rgb(51\, 51\, 51)\; font-family: sans-serif\, Arial\, Verdana\, " trebuchet="" />\n<span background-color:="" font-size:="" style="color: rgb(51\, 51\, 51)\; font-family: sans-serif\, Arial\, Verdana\, " trebuchet="">This is one of the Chambers best opportunities to network with business leaders and golf with clients and associates while genuinely having a great time.</span><br font-size:="" style="color: rgb(51\, 51\, 51)\; font-family: sans-serif\, Arial\, Verdana\, " trebuchet="" />\n<span background-color:="" font-size:="" style="color: rgb(51\, 51\, 51)\; font-family: sans-serif\, Arial\, Verdana\, " trebuchet="">Participants will enjoy breakfast catered by The Big Biscuit\, lunch provided\, contests\, 50/50 Raffle\, prizes and more!&nbsp\;</span><br />\n<br />\n&nbsp\;If you would like to be part of the fun but you don&#39\;t want to golf\, volunteer!! Sign up here:&nbsp\;<a href="http://business.ichamber.biz/form/view/11504">http://business.ichamber.biz/form/view/11504</a><br />\n<br />\n<span style="font-family:arial\;"><span style="font-size:14px\;"><strong style="color: rgb(51\, 51\, 51)\; font-family: sans-serif\, Arial\, Verdana\, &quot\;Trebuchet MS&quot\;\; font-size: 13.3333px\; background-color: rgb(255\, 255\, 255)\;"><u>&#8203\;Chamber Members:</u></strong><br style="color: rgb(51\, 51\, 51)\; font-family: sans-serif\, Arial\, Verdana\, &quot\;Trebuchet MS&quot\;\; font-size: 13.3333px\; background-color: rgb(255\, 255\, 255)\;" />\n<span style="color: rgb(51\, 51\, 51)\; background-color: rgb(255\, 255\, 255)\;">$500/team Early Bird pricing. $550/team after May 3rd</span><br style="color: rgb(51\, 51\, 51)\; font-family: sans-serif\, Arial\, Verdana\, &quot\;Trebuchet MS&quot\;\; font-size: 13.3333px\; background-color: rgb(255\, 255\, 255)\;" />\n<span style="color: rgb(51\, 51\, 51)\; background-color: rgb(255\, 255\, 255)\;">$150 individual</span><br style="color: rgb(51\, 51\, 51)\; font-family: sans-serif\, Arial\, Verdana\, &quot\;Trebuchet MS&quot\;\; font-size: 13.3333px\; background-color: rgb(255\, 255\, 255)\;" />\n<br style="color: rgb(51\, 51\, 51)\; font-family: sans-serif\, Arial\, Verdana\, &quot\;Trebuchet MS&quot\;\; font-size: 13.3333px\; background-color: rgb(255\, 255\, 255)\;" />\n<strong style="color: rgb(51\, 51\, 51)\; font-family: sans-serif\, Arial\, Verdana\, &quot\;Trebuchet MS&quot\;\; font-size: 13.3333px\; background-color: rgb(255\, 255\, 255)\;"><u>Non-Member:</u></strong><br style="color: rgb(51\, 51\, 51)\; font-family: sans-serif\, Arial\, Verdana\, &quot\;Trebuchet MS&quot\;\; font-size: 13.3333px\; background-color: rgb(255\, 255\, 255)\;" />\n<span style="color: rgb(51\, 51\, 51)\; background-color: rgb(255\, 255\, 255)\;">$600/team Early Bird pricing. $650/team after May 3rd</span><br style="color: rgb(51\, 51\, 51)\; font-family: sans-serif\, Arial\, Verdana\, &quot\;Trebuchet MS&quot\;\; font-size: 13.3333px\; background-color: rgb(255\, 255\, 255)\;" />\n<span style="color: rgb(51\, 51\, 51)\; background-color: rgb(255\, 255\, 255)\;">$175/individual</span><br style="color: rgb(51\, 51\, 51)\; font-family: sans-serif\, Arial\, Verdana\, &quot\;Trebuchet MS&quot\;\; font-size: 13.3333px\; background-color: rgb(255\, 255\, 255)\;" />\n<br style="color: rgb(51\, 51\, 51)\; font-family: sans-serif\, Arial\, Verdana\, &quot\;Trebuchet MS&quot\;\; font-size: 13.3333px\; background-color: rgb(255\, 255\, 255)\;" />\n<span style="color: rgb(51\, 51\, 51)\; background-color: rgb(255\, 255\, 255)\;">(Team fees include- green fees\, cart\, breakfast\, lunch\, snacks\, soft drinks and beer.)</span><br font-size:="" style="color: rgb(51\, 51\, 51)\; font-family: sans-serif\, Arial\, Verdana\, " trebuchet="" />\n<br font-size:="" style="color: rgb(51\, 51\, 51)\; font-family: sans-serif\, Arial\, Verdana\, " trebuchet="" />\n<strong font-size:="" style="color: rgb(51\, 51\, 51)\; font-family: sans-serif\, Arial\, Verdana\, " trebuchet=""><u>Sponsorships Available</u></strong></span></span>\n<ul font-size:="" style="padding: 0px 40px\; color: rgb(51\, 51\, 51)\; font-family: sans-serif\, Arial\, Verdana\, " trebuchet="">\n	<li><span style="font-family:arial\;"><span style="font-size:14px\;"><strong>$3000 Presenting Sponsor- </strong></span></span><span style="font-family:arial\;"><span style="font-size:14px\;">Opportunity for company rep to present the awards at the reception\, one foursome\, game package deal\, Prominent logo recognition on: event banner &amp\; signage\, sleeve of golf balls given to every player\, game score card\, newsletter\, website\, Eblasts\, tournament event program and social media.</span></span></li>\n	<li><span style="font-family:arial\;"><span style="font-size:14px\;"><span style="color:#0000FF\;"><em><strong>$1000 50/50 Raffle Sponsor- SOLD</strong></em></span></span></span></li>\n	<li><span style="font-family:arial\;"><span style="font-size:14px\;"><strong>$500 Snack Sponsor- </strong>Area on the course to personally hand out snacks and talk with golfers\, snacks are purchased by the chamber and will be individually labeled with your logo\, logo recognition on: signage at registration\, event program and website.</span></span></li>\n	<li><span style="font-family:arial\;"><span style="font-size:14px\;"><strong>$500 Cart Sponsor- </strong>Business name on 33 golf carts\, event program and website</span></span></li>\n	<li><span style="font-family:arial\;"><span style="font-size:14px\;"><span style="color:#0000FF\;"><em><b>$300 Beverage Cart Sponsor- SOLD</b></em></span></span></span></li>\n	<li><span style="font-family:arial\;"><span style="font-size:14px\;"><span style="color:#0000FF\;"><em><strong>$250 Putting Contest Sponsor- SOLD</strong></em></span></span></span></li>\n	<li><span style="font-family:arial\;"><span style="font-size:14px\;"><span style="color:#0000FF\;"><em><strong>$250 Goofy Skirt Hole Sponsor- SOLD</strong></em></span></span></span></li>\n	<li><span style="color:#0000FF\;"><span style="font-family:arial\;"><span style="font-size:14px\;"><strong>$150 Hole Sponsors- SOLD OUT&nbsp\;</strong></span></span></span></li>\n</ul>\n
LOCATION:WinterStone Golf Course 17101 E. Kentucky Rd. Independence\, MO
UID:e.2043.4995
SEQUENCE:3
DTSTAMP:20260424T065619Z
URL:https://business.ichamber.biz/events/details/chamber-golf-classic-05-18-2018-4995
END:VEVENT

END:VCALENDAR
