BEGIN:VCALENDAR
VERSION:2.0
PRODID:-//ChamberMaster//Event Calendar 2.0//EN
METHOD:PUBLISH
X-PUBLISHED-TTL:P3D
REFRESH-INTERVAL:P3D
CALSCALE:GREGORIAN
BEGIN:VEVENT
DTSTART:20170616T120000Z
DTEND:20170616T200000Z
X-MICROSOFT-CDO-ALLDAYEVENT:FALSE
SUMMARY:Chamber Golf Classic
DESCRIPTION:Some teams still available. Online registering is closed. Please call Kelsey at 816-252-4745 ext 0 for registration information.\n\nNot interested in golfing\, but still want to be part of the fun?? \n\nClick here to volunteer!\n\n\n\nJoin us for the 37th Annual Chamber Golf Classic! \n\nThis is one of the Chambers best opportunities to network with business leaders and golf with clients and associates while genuinely having a great time.\n\nParticipants will enjoy breakfast catered by The Big Biscuit\, lunch provided by Carrabba's\, contests\, 50/50 Raffle\, prizes and more! \n\n\n\nPlayers\n\n	$500/Member team Early Bird pricing. $550/member team after May 20th.\n	$150/Individual member\n	$600/Non-member team Early Bird pricing. $650/non-member team after May 20th.\n	$175/Individual non-member\n\n\n\nSponsorships \n\n\n	$2500 Presenting Sponsor- SOLD \n	$1000 50/50 Raffle Sponsor- SOLD\n	$500 Snack Sponsor- 1 available\n	$350 Beverage Cart Sponsor- 2 available\n	$350 Putting Contest Sponsor- 1 available\n	$350 Vegas Hole Sponsor-- 1 available\n	$150 Hole Sponsor- SOLD OUT
X-ALT-DESC;FMTTYPE=text/html:<br />\n<span style="font-size:14px\;"><span style="font-family: sans-serif\, Arial\, Verdana\, &quot\;Trebuchet MS&quot\;\;"><strong font-size:="" trebuchet=""><span style="color:#B22222\;"><u>Some teams still available. Online registering is closed. Please call Kelsey at 816-252-4745 ext 0 for registration information.</u></span><br />\nNot interested in golfing\, but still want to be part of the fun??</strong></span></span><span style="color: rgb(51\, 51\, 51)\; font-family: sans-serif\, Arial\, Verdana\, &quot\;Trebuchet MS&quot\;\; font-size: 18px\;"><strong font-size:="" trebuchet=""><span style="color: rgb(0\, 128\, 0)\;">&nbsp\;<br />\n<a href="http://independencecha.preview.gochambermaster.com/form/view/8804" style="color: rgb(7\, 130\, 193)\;">Click here to volunteer!</a></span></strong></span><br />\n<br />\n<span style="font-size:18px\;"><span style="line-height: 20.7999992370605px\;"><strong>Join us for the 37th Annual Chamber Golf Classic!&nbsp\;</strong></span></span><br />\nThis is one of the Chambers best opportunities to network with business leaders and golf with clients and associates while genuinely having a great time.<br />\nParticipants will enjoy breakfast catered by The Big Biscuit\, lunch provided by Carrabba&#39\;s\, contests\, 50/50 Raffle\, prizes and more!&nbsp\;<br />\n<br />\n<strong><u>Players</u></strong>\n<ul>\n	<li><strong>$500/Member team Early Bird pricing. $550/member team after May 20th.</strong></li>\n	<li><strong>$150/Individual member</strong></li>\n	<li><strong>$600/Non-member team Early Bird pricing. $650/non-member team after May 20th.</strong></li>\n	<li><strong>$175/Individual non-member</strong></li>\n</ul>\n<br />\n<strong><u>Sponsorships</u>&nbsp\;</strong>\n\n<ul>\n	<li><strong><em>$2500 Presenting Sponsor- SOLD&nbsp\;</em></strong></li>\n	<li><em><strong>$1000 50/50 Raffle Sponsor- SOLD</strong></em></li>\n	<li><strong>$500 Snack Sponsor- 1&nbsp\;available</strong></li>\n	<li><strong>$350 Beverage Cart Sponsor- 2 available</strong></li>\n	<li><strong>$350 Putting Contest Sponsor- 1 available</strong></li>\n	<li><strong>$350 Vegas Hole Sponsor-- 1 available</strong></li>\n	<li><strong>$150 Hole Sponsor- SOLD OUT</strong></li>\n</ul>\n
LOCATION:WinterStone Golf Course 17101 E. Kentucky Rd. Independence\, MO
UID:e.2043.3535
SEQUENCE:3
DTSTAMP:20260424T141302Z
URL:https://business.ichamber.biz/events/details/chamber-golf-classic-06-16-2017-3535
END:VEVENT

END:VCALENDAR
