BEGIN:VCALENDAR
VERSION:2.0
PRODID:-//ChamberMaster//Event Calendar 2.0//EN
METHOD:PUBLISH
X-PUBLISHED-TTL:P3D
REFRESH-INTERVAL:P3D
CALSCALE:GREGORIAN
BEGIN:VEVENT
DTSTART:20190927T120000Z
DTEND:20190927T200000Z
X-MICROSOFT-CDO-ALLDAYEVENT:FALSE
SUMMARY:Chamber Golf Classic
DESCRIPTION:Join us for the 39th Annual Chamber Golf Classic! \n\nThis is one of the Chambers best opportunities to network with business leaders and golf with clients and associates while genuinely having a great time.\n\nParticipants will enjoy breakfast\, lunch\, contests\, 50/50 Raffle\, prizes and more! \n\n\n\nChamber Members:\n\n$500/team Early Bird pricing. $550/team after September 6th\n\n$150 individual\n\n\n\nNon-Member:\n\n$600/team Early Bird pricing. $650/team after September 6th\n\n$175/individual\n\n\n\n(Team fees include- green fees\, cart\, breakfast\, lunch\, snacks\, soft drinks\, and beer.)\n\n\n\n\n\n Sponsorship Opportunities/Descriptions: \n\n	$3000 Presenting Sponsor (1) SOLD \n\n\n\n	Opportunity for company representative to present the awards at the reception\n	One foursome and Game Package Deal\n	Prominent logo recognition on: Event Banner & Signage\, sleeve of golf balls given to every player\, game score card\, Newsletter\, website\, Eblasts\, Tournament Event Program and social media\n\n \n\n\n	$1200 Lunch Sponsors (1)  SOLD\n\n\n\n	Opportunity for company representative(s) to be in the clubhouse to talk with golfers during lunch\n	Logo recognition on: Signage in clubhouse at lunch\, Event Program and website\n\n \n\n\n	$1000 50/50 Raffle Sponsors (2)\n\n\n\n	Opportunity for company's representatives to announce the raffle winner.\n	Logo recognition on: Signage at registration\, Event Program and website\n\n \n\n\n	$350 Snack Sponsors (2) SOLD \n\n\n\n	Area on the course to personally hand out snacks and talk with golfers\n	Snacks are purchased by the chamber and will be individually labeled with your logo\n	Logo recognition on: Event Program and website\n\n \n\n\n	$350 Marshmallow Shot Driving range sponsor (1) SOLD\n\n\n\n	Opportunity for company representative(s) to be in the contest area to talk with golfers\n	Logo recognition on: Signage in contest area\, Event Program and website\n\n \n\n\n	$250 Beverage Cart Sponsor (2)1 SOLD & 1 Available \n\n\n\n	Business Prominently displayed on one Beverage Cart driving along the course\n	Logo recognition on: Event Program and website\n\n \n\n\n	$250 Putting Contest Sponsor (1) SOLD\n\n\n\n	Opportunity for company representative(s) to be in the putting area to talk with golfers\n	Logo recognition on: Signage in contest area\, Event Program and website\n\n \n\n\n	$250 Game Hole Sponsor (2) Goofy Skirt Hole SOLD & Vegas Hole SOLD\n\n\n\n	Opportunity for company representative(s) to be in contest area to talk with golfers\n	Logo recognition on: Signage in contest area\, Event Program and website\n\n \n\n\n	$150 Non-Game Hole Sponsor \n\n\n\n	Opportunity for company representative(s) to be located at the hole to talk with golfers\n	Logo recognition on: Signage at the hole\, Event Program and website
X-ALT-DESC;FMTTYPE=text/html:<span font-size:="" style="color: rgb(51\, 51\, 51)\; font-family: sans-serif\, Arial\, Verdana\, " trebuchet=""><span style="line-height: 20.8px\;"><strong>Join us for the&nbsp\;39th&nbsp\;Annual Chamber Golf Classic!&nbsp\;</strong></span></span><br font-size:="" style="color: rgb(51\, 51\, 51)\; font-family: sans-serif\, Arial\, Verdana\, " trebuchet="" />\n<span background-color:="" font-size:="" style="color: rgb(51\, 51\, 51)\; font-family: sans-serif\, Arial\, Verdana\, " trebuchet="">This is one of the Chambers best opportunities to network with business leaders and golf with clients and associates while genuinely having a great time.</span><br font-size:="" style="color: rgb(51\, 51\, 51)\; font-family: sans-serif\, Arial\, Verdana\, " trebuchet="" />\n<span background-color:="" font-size:="" style="color: rgb(51\, 51\, 51)\; font-family: sans-serif\, Arial\, Verdana\, " trebuchet="">Participants will enjoy breakfast\, lunch\, contests\, 50/50 Raffle\, prizes and more!&nbsp\;</span><br />\n<br />\n<span style="font-family:arial\;"><span style="font-size:14px\;"><strong background-color:="" font-size:="" style="color: rgb(51\, 51\, 51)\; font-family: sans-serif\, Arial\, Verdana\, " trebuchet=""><u>Chamber Members:</u></strong><br background-color:="" font-size:="" style="color: rgb(51\, 51\, 51)\; font-family: sans-serif\, Arial\, Verdana\, " trebuchet="" />\n<span style="color: rgb(51\, 51\, 51)\; background-color: rgb(255\, 255\, 255)\;">$500/team Early Bird pricing. $550/team after September 6th</span><br background-color:="" font-size:="" style="color: rgb(51\, 51\, 51)\; font-family: sans-serif\, Arial\, Verdana\, " trebuchet="" />\n<span style="color: rgb(51\, 51\, 51)\; background-color: rgb(255\, 255\, 255)\;">$150 individual</span><br background-color:="" font-size:="" style="color: rgb(51\, 51\, 51)\; font-family: sans-serif\, Arial\, Verdana\, " trebuchet="" />\n<br background-color:="" font-size:="" style="color: rgb(51\, 51\, 51)\; font-family: sans-serif\, Arial\, Verdana\, " trebuchet="" />\n<strong background-color:="" font-size:="" style="color: rgb(51\, 51\, 51)\; font-family: sans-serif\, Arial\, Verdana\, " trebuchet=""><u>Non-Member:</u></strong><br background-color:="" font-size:="" style="color: rgb(51\, 51\, 51)\; font-family: sans-serif\, Arial\, Verdana\, " trebuchet="" />\n<span style="color: rgb(51\, 51\, 51)\; background-color: rgb(255\, 255\, 255)\;">$600/team Early Bird pricing. $650/team after September 6th</span><br background-color:="" font-size:="" style="color: rgb(51\, 51\, 51)\; font-family: sans-serif\, Arial\, Verdana\, " trebuchet="" />\n<span style="color: rgb(51\, 51\, 51)\; background-color: rgb(255\, 255\, 255)\;">$175/individual</span><br background-color:="" font-size:="" style="color: rgb(51\, 51\, 51)\; font-family: sans-serif\, Arial\, Verdana\, " trebuchet="" />\n<br background-color:="" font-size:="" style="color: rgb(51\, 51\, 51)\; font-family: sans-serif\, Arial\, Verdana\, " trebuchet="" />\n<span style="color: rgb(51\, 51\, 51)\; background-color: rgb(255\, 255\, 255)\;">(Team fees include- green fees\, cart\, breakfast\, lunch\, snacks\, soft drinks\, and beer.)</span></span></span><br />\n<br />\n<br />\n&nbsp\;<em><u><span style="font-size:14.0pt\;">Sponsorship Opportunities/Descriptions: </span></u></em>\n<ul>\n	<li><strong><u>$3000 Presenting Sponsor (1) <span style="color:#FF0000\;">SOLD&nbsp\;</span></u></strong></li>\n</ul>\n\n<ul style="list-style-type:circle\;">\n	<li><span style="font-size:10.0pt\;">Opportunity for company representative to present the awards at the reception</span></li>\n	<li><span style="font-size:10.0pt\;">One foursome and Game Package Deal</span></li>\n	<li><span style="font-size:10.0pt\;">Prominent logo recognition on: Event Banner &amp\; Signage\, sleeve of golf balls given to every player\, game score card\, Newsletter\, website\, Eblasts\, Tournament Event Program and social media</span></li>\n</ul>\n&nbsp\;\n\n<ul>\n	<li><strong><u>$1200 Lunch Sponsors (1)&nbsp\;</u></strong><strong style="color: rgb(51\, 51\, 51)\; font-family: sans-serif\, Arial\, Verdana\, &quot\;Trebuchet MS&quot\;\; font-size: 13px\; background-color: rgb(255\, 255\, 255)\;"><u><span style="color: rgb(255\, 0\, 0)\;">&nbsp\;SOLD</span></u></strong></li>\n</ul>\n\n<ul style="list-style-type:circle\;">\n	<li><span style="font-size:10.0pt\;">Opportunity for company representative(s) to be in the clubhouse to talk with golfers during lunch</span></li>\n	<li><span style="font-size:10.0pt\;">Logo recognition on: Signage in clubhouse at lunch\, Event Program and website</span></li>\n</ul>\n&nbsp\;\n\n<ul>\n	<li><strong><u>$1000 50/50 Raffle Sponsors (2)</u></strong></li>\n</ul>\n\n<ul style="list-style-type:circle\;">\n	<li><span style="font-size:10.0pt\;">Opportunity for company&rsquo\;s representatives to announce the raffle winner.</span></li>\n	<li><span style="font-size:10.0pt\;">Logo recognition on: Signage at registration\, Event Program and website</span></li>\n</ul>\n&nbsp\;\n\n<ul>\n	<li><strong><u>$350 Snack Sponsors (2) <span style="color:#FF0000\;">SOLD</span>&nbsp\;</u></strong></li>\n</ul>\n\n<ul style="list-style-type:circle\;">\n	<li><span style="font-size: 13.3333px\;">Area on the course to personally hand out snacks and talk with golfers</span></li>\n	<li><span style="font-size:10.0pt\;">Snacks are purchased by the chamber and will be individually labeled with your logo</span></li>\n	<li><span style="font-size:10.0pt\;">Logo recognition on: Event Program and website</span></li>\n</ul>\n&nbsp\;\n\n<ul>\n	<li><strong><u>$350 Marshmallow Shot Driving range sponsor (1)<span style="color:#FF0000\;"> SOLD</span></u></strong></li>\n</ul>\n\n<ul style="list-style-type:circle\;">\n	<li><span style="font-size:10.0pt\;">Opportunity for company representative(s) to be in the contest area to talk with golfers</span></li>\n	<li><span style="font-size:10.0pt\;">Logo recognition on: Signage in contest area\, Event Program and website</span></li>\n</ul>\n&nbsp\;\n\n<ul>\n	<li><strong><u>$250 Beverage Cart Sponsor (2)</u></strong><strong style="color: rgb(51\, 51\, 51)\; font-family: sans-serif\, Arial\, Verdana\, &quot\;Trebuchet MS&quot\;\; font-size: 13px\; background-color: rgb(255\, 255\, 255)\;"><u><span style="color: rgb(255\, 0\, 0)\;">1 SOLD</span>&nbsp\;&amp\; 1 Available</u></strong><strong><u>&nbsp\;</u></strong></li>\n</ul>\n\n<ul style="list-style-type:circle\;">\n	<li><span style="font-size:10.0pt\;">Business Prominently displayed on one Beverage Cart driving along the course</span></li>\n	<li><span style="font-size:10.0pt\;">Logo recognition on: Event Program and website</span></li>\n</ul>\n&nbsp\;\n\n<ul>\n	<li><strong><u>$250 Putting Contest Sponsor (1</u>)<span style="color:#FF0000\;"> SOLD</span></strong></li>\n</ul>\n\n<ul style="list-style-type:circle\;">\n	<li><span style="font-size:10.0pt\;">Opportunity for company representative(s) to be in the putting area to talk with golfers</span></li>\n	<li><span style="font-size:10.0pt\;">Logo recognition on: Signage in contest area\, Event Program and website</span></li>\n</ul>\n&nbsp\;\n\n<ul>\n	<li><strong><u>$250 Game Hole Sponsor (2) <span style="color:#FF0000\;">Goofy Skirt Hole SOLD &amp\; Vegas Hole SOLD</span></u></strong></li>\n</ul>\n\n<ul style="list-style-type:circle\;">\n	<li><span style="font-size:10.0pt\;">Opportunity for company representative(s) to be in contest area to talk with golfers</span></li>\n	<li><span style="font-size:10.0pt\;">Logo recognition on: Signage in contest area\, Event Program and website</span></li>\n</ul>\n&nbsp\;\n\n<ul>\n	<li><strong><u>$150 Non-Game Hole Sponsor&nbsp\;</u></strong></li>\n</ul>\n\n<ul style="list-style-type:circle\;">\n	<li><span style="font-size:10.0pt\;">Opportunity for company representative(s) to be located at the hole to talk with golfers</span></li>\n	<li><span style="font-size:10.0pt\;">Logo recognition on: Signage at the hole\, Event Program and website</span></li>\n</ul>\n&nbsp\;<strong><u>&#8203\;</u></strong> &nbsp\;<br />\n<br />\n&nbsp\;
LOCATION:17101 E Kentucky Rd Independence MO 64058
UID:e.2043.8410
SEQUENCE:3
DTSTAMP:20260425T030729Z
URL:https://business.ichamber.biz/events/details/chamber-golf-classic-8410
END:VEVENT

END:VCALENDAR
