BEGIN:VCALENDAR
VERSION:2.0
PRODID:-//ChamberMaster//Event Calendar 2.0//EN
METHOD:PUBLISH
X-PUBLISHED-TTL:P3D
REFRESH-INTERVAL:P3D
CALSCALE:GREGORIAN
BEGIN:VEVENT
DTSTART:20180224T010500Z
DTEND:20180224T033000Z
X-MICROSOFT-CDO-ALLDAYEVENT:FALSE
SUMMARY:Chamber Night at the KC Mavericks
DESCRIPTION:It's Chamber Night at the KC Mavericks and we hope to see you there! The KC Mavericks will be honoring Officer Tom Wagstaff from the Independence Police Department\, who was critically injured last March after being shot.  We're also partnering with the Chris Kyle Frog Foundation to help support their Date Night Out program. Chris Kyle was a Navy SEAL and known as the deadliest sniper in American history. \n\nhttp://kcmavericks.com/news/index.html?article_id=1109\n\n \n\nhttp://kcmavericks.com/news/index.html?article_id=1082\n\n\n\n\n\nDuring 1st intermission there will be a broomball game\, IPD vs. IFD. \n\n\n\n*Click the link below to buy your ticket(s): \n\nhttps://fevo.com/edp/Independence-Chamber-Night--Kansas-City-Mavericks-mMuRyc6
X-ALT-DESC;FMTTYPE=text/html:<span style="font-size:14px\;"><span style="font-family:arial\;">It&#39\;s Chamber Night at the KC Mavericks and we hope to see you there! The KC Mavericks will be&nbsp\;honoring Officer Tom Wagstaff from the Independence Police Department\, who was critically injured last March after being shot.&nbsp\; We&rsquo\;re also partnering with the Chris Kyle Frog Foundation to help support their Date Night Out program. Chris Kyle was a Navy SEAL and known as the deadliest sniper in American history.&nbsp\;<br />\n<a href="http://kcmavericks.com/news/index.html?article_id=1109">http://kcmavericks.com/news/index.html?article_id=1109</a><br />\n&nbsp\;<br />\n<a href="http://kcmavericks.com/news/index.html?article_id=1082">http://kcmavericks.com/news/index.html?article_id=1082</a><br />\n<br />\n<br />\nDuring 1<sup style="font-family: arial\;">st</sup>&nbsp\;intermission there will be a&nbsp\;broomball&nbsp\;game\,&nbsp\;IPD&nbsp\;vs.&nbsp\;IFD.&nbsp\;<br />\n<br />\n*Click the link below to buy your ticket(s):&nbsp\;<br />\n<a href="https://fevo.com/edp/Independence-Chamber-Night--Kansas-City-Mavericks-mMuRyc6">https://fevo.com/edp/Independence-Chamber-Night--Kansas-City-Mavericks-mMuRyc6</a></span></span><br />\n&nbsp\;
LOCATION:The Silverstein Eye Centers Arena 19100 E Valley View Pkwy\, Independence\, MO 64055
UID:e.2043.6232
SEQUENCE:3
DTSTAMP:20260424T035607Z
URL:https://business.ichamber.biz/events/details/chamber-night-at-the-kc-mavericks-6232
END:VEVENT

END:VCALENDAR
