BEGIN:VCALENDAR
VERSION:2.0
PRODID:-//ChamberMaster//Event Calendar 2.0//EN
METHOD:PUBLISH
X-PUBLISHED-TTL:P3D
REFRESH-INTERVAL:P3D
CALSCALE:GREGORIAN
BEGIN:VEVENT
DTSTART:20180413T220000Z
DTEND:20180414T020000Z
X-MICROSOFT-CDO-ALLDAYEVENT:FALSE
SUMMARY:Chamber & Tourism Night with the KC Phantoms Indoor Football Team
DESCRIPTION:We hope you can join us and the City of Independence Tourism for the KC Phantoms Indoor Football meet & greet with the team\, coaches\, and owner and enjoy networking & refreshments from 5:00 - 7:00 pm\, then we hope you can stay for the game at 7:00! \n\n*Tickets are FREE\, you will receive them before the game at the meet & greet
X-ALT-DESC;FMTTYPE=text/html:<span style="font-size:14px\;"><span style="font-family:arial\;">We hope you can join us and the City of Independence Tourism for the KC Phantoms Indoor Football&nbsp\;meet &amp\; greet with the&nbsp\;team\, coaches\, and owner and enjoy networking &amp\; refreshments from 5:00 - 7:00 pm\, then we hope you can stay for the game at 7:00!&nbsp\;<br />\n*Tickets are FREE\, you will receive them before the game at the meet &amp\; greet&nbsp\;</span></span><br />\n&nbsp\;
LOCATION:The Silverstein Eye Centers Arena 19100 E Valley View Pkwy\, Independence\, MO 64055 *Enter in the doors closest to the ice skating rink
UID:e.2043.7272
SEQUENCE:3
DTSTAMP:20260424T055623Z
URL:https://business.ichamber.biz/events/details/chamber-tourism-night-with-the-kc-phantoms-indoor-football-team-7272
END:VEVENT

END:VCALENDAR
