BEGIN:VCALENDAR
VERSION:2.0
PRODID:-//ChamberMaster//Event Calendar 2.0//EN
METHOD:PUBLISH
X-PUBLISHED-TTL:P3D
REFRESH-INTERVAL:P3D
CALSCALE:GREGORIAN
BEGIN:VEVENT
DTSTART:20170603T130000Z
DTEND:20170603T170000Z
X-MICROSOFT-CDO-ALLDAYEVENT:FALSE
SUMMARY:CLEAN UP INDEPENDENCE DAY
DESCRIPTION:Join the Independence Chamber of Commerce on June 3\, 2017 to help clean up trash in Independence. Also sponsored by Speaks Family Legacy\, Corporate Copy Print\, B Vogue Salon and Courthouse Exchange. Choose any of the following 3 locations to make a difference in our community:\n\n1. Team Hwy 40 from Blue Ridge to Sterling. Meet at the Parking lot of Nativity of Mary\, 10017 East 36th Terrace for supplies and instructions.\n\n2. Team Hwy 24 from East City Limits to McCoy Park. Meeting location for supplies and instructions will be announced soon.\n\n3. Team Hwy 291 and Truman Rd Interchange. Meet at 16509 E Truman Rd for supplies and instructions.\n\n**What to bring: work gloves\, rakes\, trash pick up tools\, brooms\, dustpans\, flat shovels.\n\nTrash bags\, orange vests\, water and a snack will be provided. T-shirts will be provided to volunteers while supplies last.\n\nThe Chamber is encouraging other projects throughout the city. If your neighborhood has a clean up project let us know the details. While the Chamber is organizing the efforts in three specific areas we love the idea of a city-wide clean up for Independence.
X-ALT-DESC;FMTTYPE=text/html:<p style="box-sizing: border-box\; -webkit-font-smoothing: antialiased\; margin: 0px 0px 2rem\; font-size: 16px\; color: rgb(3\, 59\, 100)\; font-family: Helvetica\, Arial\, sans-serif\; background-color: rgb(145\, 212\, 94)\;"><span style="box-sizing: border-box\; -webkit-font-smoothing: antialiased\; font-size: 18px\;"><span style="box-sizing: border-box\; -webkit-font-smoothing: antialiased\; font-family: &quot\;lucida sans unicode&quot\;\, &quot\;lucida grande&quot\;\, sans-serif\;">Join the Independence Chamber of Commerce on June 3\, 2017 to help clean up trash in Independence. Also sponsored by Speaks Family Legacy\, Corporate Copy Print\, B Vogue Salon&nbsp\;and&nbsp\;Courthouse Exchange. Choose any of the following 3 locations to make a difference in our community:</span></span></p>\n\n<p style="box-sizing: border-box\; -webkit-font-smoothing: antialiased\; margin: 0px 0px 2rem\; font-size: 16px\; color: rgb(3\, 59\, 100)\; font-family: Helvetica\, Arial\, sans-serif\; background-color: rgb(145\, 212\, 94)\;"><span style="box-sizing: border-box\; -webkit-font-smoothing: antialiased\; font-size: 18px\;"><span style="box-sizing: border-box\; -webkit-font-smoothing: antialiased\; font-family: &quot\;lucida sans unicode&quot\;\, &quot\;lucida grande&quot\;\, sans-serif\;">1. Team Hwy 40 from Blue Ridge to Sterling.&nbsp\;Meet at the Parking lot of Nativity of Mary\, 10017 East 36th Terrace&nbsp\;for supplies and instructions.</span></span></p>\n\n<p style="box-sizing: border-box\; -webkit-font-smoothing: antialiased\; margin: 0px 0px 2rem\; font-size: 16px\; color: rgb(3\, 59\, 100)\; font-family: Helvetica\, Arial\, sans-serif\; background-color: rgb(145\, 212\, 94)\;"><span style="box-sizing: border-box\; -webkit-font-smoothing: antialiased\; font-size: 18px\;"><span style="box-sizing: border-box\; -webkit-font-smoothing: antialiased\; font-family: &quot\;lucida sans unicode&quot\;\, &quot\;lucida grande&quot\;\, sans-serif\;">2. Team Hwy 24 from East City Limits to McCoy Park.&nbsp\;Meeting location for supplies and instructions will be announced soon.</span></span></p>\n\n<p style="box-sizing: border-box\; -webkit-font-smoothing: antialiased\; margin: 0px 0px 2rem\; font-size: 16px\; color: rgb(3\, 59\, 100)\; font-family: Helvetica\, Arial\, sans-serif\; background-color: rgb(145\, 212\, 94)\;"><span style="box-sizing: border-box\; -webkit-font-smoothing: antialiased\; font-size: 18px\;"><span style="box-sizing: border-box\; -webkit-font-smoothing: antialiased\; font-family: &quot\;lucida sans unicode&quot\;\, &quot\;lucida grande&quot\;\, sans-serif\;">3. Team Hwy 291 and Truman Rd Interchange.&nbsp\;Meet at 16509 E Truman Rd&nbsp\;for supplies and instructions.</span></span></p>\n\n<p style="box-sizing: border-box\; -webkit-font-smoothing: antialiased\; margin: 0px 0px 2rem\; font-size: 16px\; color: rgb(3\, 59\, 100)\; font-family: Helvetica\, Arial\, sans-serif\; background-color: rgb(145\, 212\, 94)\;"><span style="box-sizing: border-box\; -webkit-font-smoothing: antialiased\; font-size: 18px\;"><span style="box-sizing: border-box\; -webkit-font-smoothing: antialiased\; font-family: &quot\;lucida sans unicode&quot\;\, &quot\;lucida grande&quot\;\, sans-serif\;">**What to bring: work gloves\, rakes\, trash pick up tools\, brooms\, dustpans\, flat shovels.</span></span></p>\n\n<p style="box-sizing: border-box\; -webkit-font-smoothing: antialiased\; margin: 0px 0px 2rem\; font-size: 16px\; color: rgb(3\, 59\, 100)\; font-family: Helvetica\, Arial\, sans-serif\; background-color: rgb(145\, 212\, 94)\;"><span style="box-sizing: border-box\; -webkit-font-smoothing: antialiased\; font-size: 18px\;"><span style="box-sizing: border-box\; -webkit-font-smoothing: antialiased\; font-family: &quot\;lucida sans unicode&quot\;\, &quot\;lucida grande&quot\;\, sans-serif\;">Trash bags\, orange vests\, water and a snack will be provided. T-shirts will be provided to volunteers while supplies last.</span></span></p>\n\n<p style="box-sizing: border-box\; -webkit-font-smoothing: antialiased\; margin: 0px 0px 2rem\; font-size: 16px\; color: rgb(3\, 59\, 100)\; font-family: Helvetica\, Arial\, sans-serif\; background-color: rgb(145\, 212\, 94)\;"><span style="box-sizing: border-box\; -webkit-font-smoothing: antialiased\; font-size: 18px\;"><span style="box-sizing: border-box\; -webkit-font-smoothing: antialiased\; font-family: &quot\;lucida sans unicode&quot\;\, &quot\;lucida grande&quot\;\, sans-serif\;">The Chamber is encouraging other projects throughout the city. If your neighborhood has a clean up project let us know the details. While the Chamber is organizing the efforts in three specific areas we love the idea of a city-wide clean up for Independence.</span></span></p>\n
LOCATION:
UID:e.2043.4326
SEQUENCE:3
DTSTAMP:20260424T141322Z
URL:https://business.ichamber.biz/events/details/clean-up-independence-day-06-03-2017-4326
END:VEVENT

END:VCALENDAR
