BEGIN:VCALENDAR
VERSION:2.0
PRODID:-//ChamberMaster//Event Calendar 2.0//EN
METHOD:PUBLISH
X-PUBLISHED-TTL:P3D
REFRESH-INTERVAL:P3D
CALSCALE:GREGORIAN
BEGIN:VEVENT
DTSTART:20170424T220000Z
DTEND:20170425T000000Z
X-MICROSOFT-CDO-ALLDAYEVENT:FALSE
SUMMARY:Cocktails & City Council Study Session
DESCRIPTION:Support a plan for revitalizing Independence Square growth updating!\n\nMike Sanders will present the Chamber's Plan to further develop and promote growth of our Independence Square. We will meet at Ophelia's at 5:00 pm for light refreshments and attend the Study Session in City Hall at 6:00pm.. \n\nJoin us on what will hopefully lead to an historic day for Independence!  Bring friends!
X-ALT-DESC;FMTTYPE=text/html:<p background-color:="" crimson="" font-size:="" style="box-sizing: border-box\; margin: 0px 0px 10px\; line-height: 1.7\; color: rgb(68\, 68\, 68)\; font-family: "><br />\n<span style="font-size:14px\;"><span style="font-size:16px\;"><strong><span style="color: rgb(68\, 68\, 68)\;">Support a&nbsp\;plan for revitalizing Independence Square growth updating!</span></strong></span><br />\n<span style="font-family:arial\;">Mike Sanders will present&nbsp\;the Chamber&#39\;s Plan&nbsp\;<span style="color: rgb(68\, 68\, 68)\;">to further&nbsp\;develop&nbsp\;and promote growth of our&nbsp\;Independence Square.</span>&nbsp\;We will meet at Ophelia&#39\;s at 5:00 pm for light refreshments and attend the Study Session in&nbsp\;City Hall at 6:00pm..&nbsp\;</span></span></p>\n\n<p background-color:="" crimson="" font-size:="" style="box-sizing: border-box\; margin: 0px 0px 10px\; line-height: 1.7\; color: rgb(68\, 68\, 68)\; font-family: "><span style="font-size:14px\;"><span style="font-family:arial\;">Join us on what will hopefully lead to an historic day for Independence! &nbsp\;Bring friends!&nbsp\;</span></span></p>\n\n<p background-color:="" crimson="" font-size:="" style="box-sizing: border-box\; margin: 0px 0px 10px\; line-height: 1.7\; color: rgb(68\, 68\, 68)\; font-family: ">&nbsp\;</p>\n
LOCATION:Ophelia's 201 N Main St Independence\, MO 64050
UID:e.2043.4320
SEQUENCE:3
DTSTAMP:20260424T165745Z
URL:https://business.ichamber.biz/events/details/cocktails-city-council-study-session-04-24-2017-4320
END:VEVENT

END:VCALENDAR
