BEGIN:VCALENDAR
VERSION:2.0
PRODID:-//ChamberMaster//Event Calendar 2.0//EN
METHOD:PUBLISH
X-PUBLISHED-TTL:P3D
REFRESH-INTERVAL:P3D
CALSCALE:GREGORIAN
BEGIN:VEVENT
DTSTART:20200611T130000Z
DTEND:20200611T140000Z
X-MICROSOFT-CDO-ALLDAYEVENT:FALSE
SUMMARY:Coffee & Networking: Hosted by the YIPs
DESCRIPTION:Join the Young Independence Professionals for their monthly networking meeting! The YIPS meet every second Thursday of the month and alternate with coffee and happy hour networking.
X-ALT-DESC;FMTTYPE=text/html:<span style="font-family: Oxygen\, Arial\, &quot\;Helvetica Neue&quot\;\, Helvetica\, sans-serif\; font-size: 16px\;">Join the Young Independence Professionals for their monthly networking meeting! The YIPS meet every second Thursday of the month and alternate with coffee and happy hour networking.&nbsp\;</span>
LOCATION:RJ's CoffeeLand 17000 E Hwy 40\, Independence\, MO 64055
UID:e.2043.12853
SEQUENCE:3
DTSTAMP:20260425T115728Z
URL:https://business.ichamber.biz/events/details/coffee-networking-hosted-by-the-yips-12853
END:VEVENT

END:VCALENDAR
