BEGIN:VCALENDAR
VERSION:2.0
PRODID:-//ChamberMaster//Event Calendar 2.0//EN
METHOD:PUBLISH
X-PUBLISHED-TTL:P3D
REFRESH-INTERVAL:P3D
CALSCALE:GREGORIAN
BEGIN:VEVENT
DTSTART:20181023T210000Z
DTEND:20181023T230000Z
X-MICROSOFT-CDO-ALLDAYEVENT:FALSE
SUMMARY:Columbia College Kansas City Campus 30th Anniversary Open House
DESCRIPTION:Join us as Columbia College Kansas City celebrates 30 years of service to students in the Kansas City area! You are cordially invited to attend an open house celebrating our anniversary on October 23\, 2018 from 4:00 p.m. to 6:00 p.m. at our location at 4240 Blue Ridge Blvd.\, Suite 400\, Kansas City\, MO 64133. Please RSVP to Cindy Miller by October 19 to (816) 795-1515 or kansascity@ccis.edu.
X-ALT-DESC;FMTTYPE=text/html:Join us as Columbia College Kansas City celebrates 30 years of service to students in the Kansas City area! You are cordially invited to attend an open house celebrating our anniversary on October 23\, 2018 from 4:00 p.m. to 6:00 p.m. at our location at 4240 Blue Ridge Blvd.\, Suite 400\, Kansas City\, MO 64133. Please RSVP to Cindy Miller by October 19 to (816) 795-1515 or kansascity@ccis.edu.
LOCATION:4240 Blue Ridge Blvd.\, Suite #400\, Kansas City\, MO 64133
UID:e.2043.8758
SEQUENCE:3
DTSTAMP:20260424T132002Z
URL:https://business.ichamber.biz/events/details/columbia-college-kansas-city-campus-30th-anniversary-open-house-8758
END:VEVENT

END:VCALENDAR
