BEGIN:VCALENDAR
VERSION:2.0
PRODID:-//ChamberMaster//Event Calendar 2.0//EN
METHOD:PUBLISH
X-PUBLISHED-TTL:P3D
REFRESH-INTERVAL:P3D
CALSCALE:GREGORIAN
BEGIN:VEVENT
DTSTART:20250613T210000Z
DTEND:20250614T010000Z
X-MICROSOFT-CDO-ALLDAYEVENT:FALSE
SUMMARY:Community Project: Keep Knitting
DESCRIPTION:Support our new community project\, organized by KCAI student Cherline Philogene. The project titled\, Keep Knitting\, is a community-driven knitting collaboration that brings people together to engage in a hands-on fiber arts experience.\n\nThis project invites people of all skill levels to explore arm knitting a technique that replaces traditional needles in favor of using one's arms to collectively create a large-scale knitted textile installation. The project will take place during workshops on Friday\, April 11th\, 18th\, and 25th.\n\nThe workshops will take place in Englewood's Glass Blowing Studio\, patio\, or the flex space\, depending on availability.\n\nFollowing the workshops\, the completed textile piece will be installed between April 28th and May 5th at the Englewood Arts Center. The goal of the project is to transform the space into a visual representation of collective effort and shared experience. This project not only encourages artistic expression but also reinforces the value of gathering\, making\, and storytelling through craft.
X-ALT-DESC;FMTTYPE=text/html:<p>Support our new community project\, organized by KCAI student Cherline Philogene. The project titled\,&nbsp\;<em>Keep Knitting\,&nbsp\;</em>is a community-driven knitting collaboration that brings people together to engage in a hands-on fiber arts experience.</p>\n\n<p>This project invites people of all skill levels to explore arm knitting&mdash\;a technique that replaces traditional needles in favor of using one&rsquo\;s arms&mdash\;to collectively create a large-scale knitted textile installation. The project will take place during workshops on Friday\, April 11th\, 18th\, and 25th.</p>\n\n<p>The workshops will take place in&nbsp\;<strong>Englewood&rsquo\;s Glass Blowing Studio\, patio\, or the flex space\, depending on availability</strong>.</p>\n\n<p>Following the workshops\, the completed textile piece will be installed between&nbsp\;<strong>April 28th and May 5th&nbsp\;</strong>at the Englewood Arts Center. The goal of the project is to transform the space into a visual representation of collective effort and shared experience. This project not only encourages artistic expression but also reinforces the value of gathering\, making\, and storytelling through craft.</p>\n
LOCATION:Englewood Arts 10901 E Winner Rd Independence\, MO 64052
UID:e.2043.17728
SEQUENCE:3
DTSTAMP:20260425T225236Z
URL:https://business.ichamber.biz/events/details/community-project-keep-knitting-06-13-2025-17728
END:VEVENT

END:VCALENDAR
