BEGIN:VCALENDAR
VERSION:2.0
PRODID:-//ChamberMaster//Event Calendar 2.0//EN
METHOD:PUBLISH
X-PUBLISHED-TTL:P3D
REFRESH-INTERVAL:P3D
CALSCALE:GREGORIAN
BEGIN:VEVENT
DTSTART:20190530T220000Z
DTEND:20190531T000000Z
X-MICROSOFT-CDO-ALLDAYEVENT:FALSE
SUMMARY:Corporate Copy Print Silver Anniversary Celebration
DESCRIPTION:Join us for an afternoon of activities\, raffles\, food & drinks\, and so much more! We would love for you to stop by and help us celebrate our 25th Anniversary of doing business. We look forward to seeing each and every one of you!
X-ALT-DESC;FMTTYPE=text/html:<span style="color: rgb(103\, 106\, 108)\; font-family: Tahoma\, sans-serif\; font-size: 13.3333px\;">Join us for an afternoon of activities\, raffles\, food &amp\; drinks\, and so much more! We would love for you to stop by and help us celebrate our 25th Anniversary of doing business. We look forward to seeing each and every one of you!</span>
LOCATION:111 S Main St Independence\, MO 64050
UID:e.2043.9084
SEQUENCE:3
DTSTAMP:20260424T235126Z
URL:https://business.ichamber.biz/events/details/corporate-copy-print-silver-anniversary-celebration-9084
END:VEVENT

END:VCALENDAR
