BEGIN:VCALENDAR
VERSION:2.0
PRODID:-//ChamberMaster//Event Calendar 2.0//EN
METHOD:PUBLISH
X-PUBLISHED-TTL:P3D
REFRESH-INTERVAL:P3D
CALSCALE:GREGORIAN
BEGIN:VEVENT
DTSTART:20190712T130000Z
DTEND:20190712T143000Z
X-MICROSOFT-CDO-ALLDAYEVENT:FALSE
SUMMARY:County Legislative Breakfast
DESCRIPTION:Join us in a Joint County Legislative Breakfast with other local Chambers. All nine Jackson County Legislators have been invited to attend.  Attend to hear committee updates and have a chance to ask questions of legislators.\n\nTheresa Galvin - 6th District (Legislative Chair)\n\nDan Tarwater III - 4th District (Legislative Vice Chair)\n\nScott Burnett - 1st District\n\nRonald Finley - 2nd District\n\nCharlie Franklin - 3rd District\n\nJeanie Lauer - 5th District\n\nJalen Anderson - 1st District At-Large\n\nCrystal Williams - 2nd District At-Large\n\nTony Miller - 3rd District At-Large
X-ALT-DESC;FMTTYPE=text/html:Join us in a Joint County Legislative Breakfast with other local Chambers. All nine Jackson County Legislators have been invited to attend.&nbsp\; Attend to hear committee updates and have a chance to ask questions of legislators.<br />\nTheresa Galvin - 6th District (Legislative Chair)<br />\nDan Tarwater III - 4th District (Legislative Vice Chair)<br />\nScott Burnett - 1st District<br />\nRonald Finley - 2nd District<br />\nCharlie Franklin - 3rd District<br />\nJeanie Lauer - 5th District<br />\nJalen Anderson - 1st District At-Large<br />\nCrystal Williams - 2nd District At-Large<br />\nTony Miller - 3rd District At-Large&nbsp\;
LOCATION:Stoney Creek Hotel and Conference Center
UID:e.2043.9670
SEQUENCE:3
DTSTAMP:20260425T010344Z
URL:https://business.ichamber.biz/events/details/county-legislative-breakfast-9670
END:VEVENT

END:VCALENDAR
