BEGIN:VCALENDAR
VERSION:2.0
PRODID:-//ChamberMaster//Event Calendar 2.0//EN
METHOD:PUBLISH
X-PUBLISHED-TTL:P3D
REFRESH-INTERVAL:P3D
CALSCALE:GREGORIAN
BEGIN:VEVENT
DTSTART:20200716T173000Z
DTEND:20200716T190000Z
X-MICROSOFT-CDO-ALLDAYEVENT:FALSE
SUMMARY:Disaster Planning for Small Businesses
DESCRIPTION:According to the SBA\, approximately 25 percent of businesses don't reopen after a major disaster. This course focuses on how small businesses can develop a plan for disaster management and recovery. Hear from Dr. Anthony Vatterott on developing a well-rounded plan including a Communications Plan\, Continuity Plan\, and Risk Assessment.
X-ALT-DESC;FMTTYPE=text/html:According to the SBA\, approximately 25 percent of businesses don&#39\;t reopen after a major disaster. This course focuses on how small businesses can develop a plan for disaster management and recovery. Hear from Dr. Anthony Vatterott on developing a well-rounded plan including a Communications Plan\, Continuity Plan\, and Risk Assessment.&nbsp\;
LOCATION:Missouri Chamber of Commerce Webinar
UID:e.2043.12903
SEQUENCE:3
DTSTAMP:20260425T125822Z
URL:https://business.ichamber.biz/events/details/disaster-planning-for-small-businesses-12903
END:VEVENT

END:VCALENDAR
