BEGIN:VCALENDAR
VERSION:2.0
PRODID:-//ChamberMaster//Event Calendar 2.0//EN
METHOD:PUBLISH
X-PUBLISHED-TTL:P3D
REFRESH-INTERVAL:P3D
CALSCALE:GREGORIAN
BEGIN:VEVENT
DTSTART:20240525T180000Z
DTEND:20240525T210000Z
X-MICROSOFT-CDO-ALLDAYEVENT:FALSE
SUMMARY:DJHP Broadcasting Live From Spirit World
DESCRIPTION:DJHP Broadcasting live 3 hr broadcast from Spirit World Liquor store 17001 E US Hwy 24 suite 200 Independence M0. 70s 80s 90s music and our exciting prize wheel\, Drink tasting and more\,\,\,\,
X-ALT-DESC;FMTTYPE=text/html:DJHP Broadcasting live 3 hr broadcast from Spirit World Liquor store 17001 E US Hwy 24 suite 200 Independence M0. 70s 80s 90s music and our exciting prize wheel\, Drink tasting and more\,\,\,\,
LOCATION:17001 E US Hwy 24 suite 200 Independence M0.64056
UID:e.2043.16323
SEQUENCE:3
DTSTAMP:20260421T131421Z
URL:https://business.ichamber.biz/events/details/djhp-broadcasting-live-from-spirit-world-16323
END:VEVENT

END:VCALENDAR
