BEGIN:VCALENDAR
VERSION:2.0
PRODID:-//ChamberMaster//Event Calendar 2.0//EN
METHOD:PUBLISH
X-PUBLISHED-TTL:P3D
REFRESH-INTERVAL:P3D
CALSCALE:GREGORIAN
BEGIN:VEVENT
DTSTART:20190829T213000Z
DTEND:20190829T233000Z
X-MICROSOFT-CDO-ALLDAYEVENT:FALSE
SUMMARY:Duvall Campus Unveiling & Ribbon Cutting
DESCRIPTION:Nine apartments for unaccompanied youth will open this Fall serving young people in the Drumm Farm Center for Children COMPASS program. The COMPASS program offers housing and a network of support to help young adults ages 17 to 22. By providing instruction\, life-skill development and supervision\, the staff at Drumm helps young adults learn tools for living successful\, independent lives while building and maintaining healthy relationships. \n\nDrumm is accepting monetary donations to help us furnish each apartment in partnership with Truman Heritage Habitat ReStore. Please join us for refreshments and bring cleaning supplies or toiletry items to help these youth get off to a good start!
X-ALT-DESC;FMTTYPE=text/html:Nine apartments for unaccompanied youth will open this Fall serving young people in the Drumm Farm Center for Children COMPASS program. The COMPASS program offers housing and a network of support to help young adults ages 17 to 22. By providing instruction\, life-skill development and supervision\, the staff at Drumm helps young adults learn tools for living successful\, independent lives while building and maintaining healthy relationships.&nbsp\;<br />\nDrumm is accepting monetary donations to help us furnish each apartment in partnership with Truman Heritage Habitat ReStore. Please join us for refreshments and bring cleaning supplies or toiletry items to help these youth get off to a good start!
LOCATION:Duvall Campus
UID:e.2043.11548
SEQUENCE:3
DTSTAMP:20260425T021837Z
URL:https://business.ichamber.biz/events/details/duvall-campus-unveiling-ribbon-cutting-11548
END:VEVENT

END:VCALENDAR
