BEGIN:VCALENDAR
VERSION:2.0
PRODID:-//ChamberMaster//Event Calendar 2.0//EN
METHOD:PUBLISH
X-PUBLISHED-TTL:P3D
REFRESH-INTERVAL:P3D
CALSCALE:GREGORIAN
BEGIN:VEVENT
DTSTART:20150423T190000Z
DTEND:20150424T000000Z
X-MICROSOFT-CDO-ALLDAYEVENT:FALSE
SUMMARY:Eastern Jackson County Business Expo Entrance Ticket
DESCRIPTION:Thursday\, April 23\, 2015 will find some of the most successful and dynamic companies operating throughout Eastern Jackson County on the main floor of the Independence Events Center for the Eastern Jackson County Business Expo. \n\n\n\nFrom 2:00 pm to 7:00 pm that day\, dozens and dozens of the most recognizable business names in Missouri's second largest county will be displaying\, explaining\, and demonstrating their products and services for the representatives of their fellow businesses in Eastern Jackson County and potential customers/clients.\n\n\n\nWith each participating business inviting their 50 best customers from the region to be their guest at the event\, attendance is expected to exceed several thousand qualified prospects. The Eastern Jackson County Business Expo is also open to the general public for $10. \n\n\n\nTickets may also be bought day of at the door for $10/person
X-ALT-DESC;FMTTYPE=text/html:Thursday\, April 23\, 2015 will find some of the most successful and dynamic companies operating throughout Eastern Jackson County on the main floor of the Independence Events Center for the Eastern Jackson County Business Expo.&nbsp\;<br />\n<br />\nFrom 2:00 pm to 7:00 pm that day\, dozens and dozens of the most recognizable business names in Missouri&rsquo\;s second largest county will be displaying\, explaining\, and demonstrating their products and services for the representatives of their fellow businesses in Eastern Jackson County and potential customers/clients.<br />\n<br />\nWith each participating business inviting their 50 best customers from the region to be their guest at the event\, attendance is expected to exceed several thousand qualified prospects. The Eastern Jackson County Business Expo is also open to the general public for $10.&nbsp\;<br />\n<br />\n<strong>Tickets may also be bought day of at the door for $10/person</strong>
LOCATION:Independence Events Center 19100 E. Valley View Parkway Independence\, MO 64055
UID:e.2043.2505
SEQUENCE:3
DTSTAMP:20260425T194604Z
URL:https://business.ichamber.biz/events/details/eastern-jackson-county-business-expo-entrance-ticket-04-23-2015-2505
END:VEVENT

END:VCALENDAR
