BEGIN:VCALENDAR
VERSION:2.0
PRODID:-//ChamberMaster//Event Calendar 2.0//EN
METHOD:PUBLISH
X-PUBLISHED-TTL:P3D
REFRESH-INTERVAL:P3D
CALSCALE:GREGORIAN
BEGIN:VEVENT
DTSTART:20180119T133000Z
DTEND:20180119T151500Z
X-MICROSOFT-CDO-ALLDAYEVENT:FALSE
SUMMARY:Eggs & Issues
DESCRIPTION:This annual event provides a forum for our members in the business community to interact with legislators representing Independence in the 2018 General Session. It's a chance to hear committee assignments and the goals planned by our elected officials. There will be an opportunity for questions by our members in attendance.\n\nCurrent Elected Officials in Independence:\n\n   Ira Anders\, House of Representatives\, 21st District\n\n   Ingrid Burnett\, House of Representatives\, 19th District\n\n   Brandon Ellington\, House of Representatives\, 22nd District\n\n   Bill E. Kidd\, House of Representatives\, 20th District\n\n   Jeanie Lauer\, House of Representatives\, 32nd District\n\n   John Rizzo\, Senate\, 11th District\n\n   Rory Rowland\, House of Representatives\, 29th District
X-ALT-DESC;FMTTYPE=text/html:<p font-size:="" helvetica="" letter-spacing:="" style="margin: 0px\; padding: 0px 0px 8px\; line-height: normal\; color: rgb(0\, 0\, 0)\; font-family: "><span style="font-size:14px\;"><span style="font-family:arial\;">This annual event provides a forum for our members in the business community to interact with legislators representing Independence in the 2018 General Session. It&rsquo\;s a chance to hear committee assignments and the goals planned by our elected officials. There will be an opportunity for questions by our members in attendance.</span></span></p>\n\n<p font-size:="" helvetica="" letter-spacing:="" style="margin: 0px\; padding: 0px 0px 8px\; line-height: normal\; color: rgb(0\, 0\, 0)\; text-align: center\;"><span style="font-size:14px\;"><span style="font-family:arial\;"><strong><u>Current Elected Officials in Independence:</u></strong><br />\n&nbsp\;&nbsp\; Ira Anders\, House of Representatives\, 21<sup>st</sup> District<br />\n&nbsp\;&nbsp\; Ingrid Burnett\, House of Representatives\, 19<sup>th</sup> District<br />\n&nbsp\;&nbsp\; Brandon Ellington\, House of Representatives\, 22<sup>nd</sup> District<br />\n&nbsp\;&nbsp\; Bill E. Kidd\, House of Representatives\, 20<sup>th</sup> District<br />\n&nbsp\;&nbsp\; Jeanie Lauer\, House of Representatives\, 32<sup>nd</sup> District<br />\n&nbsp\;&nbsp\; John Rizzo\, Senate\, 11<sup>th</sup> District<br />\n&nbsp\;&nbsp\; Rory Rowland\, House of Representatives\, 29<sup>th</sup> District</span></span></p>\n\n<p font-size:="" helvetica="" letter-spacing:="" style="margin: 0px\; padding: 0px 0px 8px\; line-height: normal\; color: rgb(0\, 0\, 0)\; font-family: "><br />\n<br />\n<br />\n&nbsp\;</p>\n
LOCATION:Ennovation Center 201 N. Forest Avenue Independence\, MO 64050
UID:e.2043.6110
SEQUENCE:3
DTSTAMP:20260424T044907Z
URL:https://business.ichamber.biz/events/details/eggs-issues-01-19-2018-6110
END:VEVENT

END:VCALENDAR
