BEGIN:VCALENDAR
VERSION:2.0
PRODID:-//ChamberMaster//Event Calendar 2.0//EN
METHOD:PUBLISH
X-PUBLISHED-TTL:P3D
REFRESH-INTERVAL:P3D
CALSCALE:GREGORIAN
BEGIN:VEVENT
DTSTART:20190118T140000Z
DTEND:20190118T153000Z
X-MICROSOFT-CDO-ALLDAYEVENT:FALSE
SUMMARY:Eggs & Issues
DESCRIPTION:A full buffet breakfast will be served as part of the event. For questions or additional information\, please contact the Independence Chamber at (816) 252-4745 or email Sarah Beth Wood at sarahbeth@ichamber.biz.
X-ALT-DESC;FMTTYPE=text/html:<p font-size:="" helvetica="" letter-spacing:="" style="margin: 0px\; padding: 0px 0px 8px\; line-height: normal\; color: rgb(0\, 0\, 0)\; font-family: "><span style="font-size:14px\;"><span style="font-family:arial\;"><big>A full buffet breakfast will be served as part of the event.&nbsp\;For questions or additional information\, please contact the Independence Chamber&nbsp\;at (816) 252-4745 or email Sarah Beth Wood at sarahbeth@ichamber.biz.&nbsp\;</big></span></span><br />\n&nbsp\;</p>\n\n<p font-size:="" helvetica="" letter-spacing:="" style="margin: 0px\; padding: 0px 0px 8px\; line-height: normal\; color: rgb(0\, 0\, 0)\; font-family: " text-align:=""><span style="font-size:14px\;"><span style="font-family:arial\;"><span font-size:="" trebuchet=""><span style="font-weight: 700\;">&nbsp\; &nbsp\; &nbsp\; &nbsp\;&nbsp\; &nbsp\; &nbsp\;</span></span></span></span></p>\n\n<p font-size:="" helvetica="" letter-spacing:="" style="margin: 0px\; padding: 0px 0px 8px\; line-height: normal\; color: rgb(0\, 0\, 0)\; font-family: " text-align:="">&nbsp\;</p>\n
LOCATION:Ennovation Center 201 N. Forest Avenue Independence\, MO 64050
UID:e.2043.8343
SEQUENCE:3
DTSTAMP:20260424T195734Z
URL:https://business.ichamber.biz/events/details/eggs-issues-8343
END:VEVENT

END:VCALENDAR
