BEGIN:VCALENDAR
VERSION:2.0
PRODID:-//ChamberMaster//Event Calendar 2.0//EN
METHOD:PUBLISH
X-PUBLISHED-TTL:P3D
REFRESH-INTERVAL:P3D
CALSCALE:GREGORIAN
BEGIN:VEVENT
DTSTART:20170113T140000Z
DTEND:20170113T153000Z
X-MICROSOFT-CDO-ALLDAYEVENT:FALSE
SUMMARY:Eggs & Issues Legislative Breakfast
DESCRIPTION:Join the Independence Economic Development Council and the Independence Chamber of Commerce for the Eggs & Issues Legislative Breakfast on January 13th at 8:00 am. Legislators will inform of us of the expectations for the 2017 General Session.
X-ALT-DESC;FMTTYPE=text/html:<span style="font-family:arial\;">Join the Independence Economic Development Council and the Independence Chamber of Commerce for the Eggs &amp\; Issues Legislative Breakfast on January 13th&nbsp\;at 8:00 am. Legislators will inform of us of the expectations for the 2017 General Session.&nbsp\;</span>
LOCATION:Ennovation Center 201 N Forest Ave #130\, Independence\, MO 64050
UID:e.2043.3607
SEQUENCE:3
DTSTAMP:20260424T204926Z
URL:https://business.ichamber.biz/events/details/eggs-issues-legislative-breakfast-01-13-2017-3607
END:VEVENT

END:VCALENDAR
