BEGIN:VCALENDAR
VERSION:2.0
PRODID:-//ChamberMaster//Event Calendar 2.0//EN
METHOD:PUBLISH
X-PUBLISHED-TTL:P3D
REFRESH-INTERVAL:P3D
CALSCALE:GREGORIAN
BEGIN:VEVENT
DTSTART:20170818T130000Z
DTEND:20170818T143000Z
X-MICROSOFT-CDO-ALLDAYEVENT:FALSE
SUMMARY:Eggs & Issues: State of the Schools Address
DESCRIPTION:You are invited to join the Independence EDC for Annual State of the Schools Address.  It's the start of the new school year and we will get the opportunity to hear from the Superintendents\; Dr. Jim Finley of the Blue Springs School District\, Dr. Jason Snodgrass of the Fort Osage School District and Dr. Dale Herl of the Independence School District.  Each will provide us with an update on exciting changes in their respective districts as they begin the new school year.  \n\n\n\nEducation is a critical component to the growth and sustainability of our community and each district represented has been annually recognized for their high levels of performance and ability to "think outside the box" when it comes to educating our children. \n\nA full buffet breakfast will be served as part of the event.  For questions or additional information\, please contact the Independence EDC at (816) 252-5777 or info@inedc.biz.\n\n\n\nCLICK HERE TO REGISTER!
X-ALT-DESC;FMTTYPE=text/html:<p font-size:="" helvetica="" letter-spacing:="" style="margin: 0px\; padding: 0px 0px 8px\; line-height: normal\; color: rgb(0\, 0\, 0)\; font-family: "><span style="font-size:14px\;"><span style="font-family:arial\;"><big>You are invited to join&nbsp\;the Independence EDC for&nbsp\;Annual State of the Schools Address. &nbsp\;It&#39\;s the start of the&nbsp\;new school year and we will get the opportunity to hear from the Superintendents\;&nbsp\;Dr. Jim Finley of the Blue Springs School District\, Dr. Jason Snodgrass of the Fort Osage School District and Dr. Dale Herl of the Independence School District.&nbsp\; Each will provide us with an update on exciting changes in their respective districts as they begin the new school year.&nbsp\;&nbsp\;<br />\n<br />\nEducation is a critical component to the growth and sustainability of our community and each district represented has been annually recognized for their high levels of performance and ability to &quot\;think outside the box&quot\; when it comes to educating our children.&nbsp\;</big></span></span></p>\n\n<p font-size:="" helvetica="" letter-spacing:="" style="margin: 0px\; padding: 0px 0px 8px\; line-height: normal\; color: rgb(0\, 0\, 0)\; font-family: "><span style="font-size:14px\;"><span style="font-family:arial\;"><big>A full buffet breakfast will be served as part of the event.&nbsp\; For questions or additional information\, please contact the Independence EDC at (816) 252-5777 or info@inedc.biz.<br />\n<br />\n<span style="font-size:18px\;"><strong><span style="color:679854\;"><a href="https://www.eventbrite.com/e/eggs-and-issues-state-of-the-schools-breakfast-tickets-35680531430?discount=Chamber">CLICK HERE TO REGISTER!</a></span></strong></span></big></span></span></p>\n\n<p font-size:="" helvetica="" letter-spacing:="" style="margin: 0px\; padding: 0px 0px 8px\; line-height: normal\; color: rgb(0\, 0\, 0)\; font-family: " text-align:=""><span style="font-size:14px\;"><span style="font-family:arial\;"><span font-size:="" trebuchet=""><span style="font-weight: 700\;">&nbsp\; &nbsp\; &nbsp\; &nbsp\;&nbsp\; &nbsp\; &nbsp\;</span></span></span></span></p>\n\n<p font-size:="" helvetica="" letter-spacing:="" style="margin: 0px\; padding: 0px 0px 8px\; line-height: normal\; color: rgb(0\, 0\, 0)\; font-family: " text-align:="">&nbsp\;</p>\n
LOCATION:Ennovation Center 201 N. Forest Avenue Independence\, MO 64050
UID:e.2043.4977
SEQUENCE:3
DTSTAMP:20260424T113241Z
URL:https://business.ichamber.biz/events/details/eggs-issues-state-of-the-schools-address-08-18-2017-4977
END:VEVENT

END:VCALENDAR
