BEGIN:VCALENDAR
VERSION:2.0
PRODID:-//ChamberMaster//Event Calendar 2.0//EN
METHOD:PUBLISH
X-PUBLISHED-TTL:P3D
REFRESH-INTERVAL:P3D
CALSCALE:GREGORIAN
BEGIN:VEVENT
DTSTART:20190816T130000Z
DTEND:20190816T143000Z
X-MICROSOFT-CDO-ALLDAYEVENT:FALSE
SUMMARY:Eggs & Issues State of the Schools Breakfast
DESCRIPTION:As we prepare to start a new school year\, we invite you to join us for a program featuring the Superintendents of the Blue Springs\, Fort Osage and Independence School Districts as they update on us on what is happening within their respective districts. \n\n \n\nYour admission includes a buffet breakfast.
X-ALT-DESC;FMTTYPE=text/html:As we prepare to start a new school year\, we invite you to join us for a program featuring the Superintendents of the Blue Springs\, Fort Osage and Independence School Districts as they update on us on what is happening within their respective districts.&nbsp\;<br />\n&nbsp\;<br />\nYour admission includes a buffet breakfast.
LOCATION:Ennovation Center\, 201 N Forest Ave\, Independence MO 64050
UID:e.2043.9884
SEQUENCE:3
DTSTAMP:20260425T021653Z
URL:https://business.ichamber.biz/events/details/eggs-issues-state-of-the-schools-breakfast-9884
END:VEVENT

END:VCALENDAR
