BEGIN:VCALENDAR
VERSION:2.0
PRODID:-//ChamberMaster//Event Calendar 2.0//EN
METHOD:PUBLISH
X-PUBLISHED-TTL:P3D
REFRESH-INTERVAL:P3D
CALSCALE:GREGORIAN
BEGIN:VEVENT
DTSTART:20190607T130000Z
DTEND:20190607T141500Z
X-MICROSOFT-CDO-ALLDAYEVENT:FALSE
SUMMARY:End of Session Legislative Briefing
DESCRIPTION:The Monthly Legislative Briefing will be held at the Free Enterprise Center. Local elected officials will join us to share their thoughts and answer questions about the legislative session that just ended in Jefferson City. The briefing is open to all Chamber members who are asked to register free of charge.
X-ALT-DESC;FMTTYPE=text/html:<span style="color: rgb(51\, 51\, 51)\; font-family: Arial\, Helvetica\, sans-serif\; font-size: 14px\; background-color: rgb(255\, 255\, 255)\;">The Monthly Legislative Briefing will be held at the Free Enterprise Center. Local elected officials will join us to share their thoughts and answer questions about the legislative session that just ended in Jefferson City. The briefing is open to all Chamber members who are asked to register free of charge.</span>
LOCATION:
UID:e.2043.9521
SEQUENCE:3
DTSTAMP:20260424T235126Z
URL:https://business.ichamber.biz/events/details/end-of-session-legislative-briefing-9521
END:VEVENT

END:VCALENDAR
