BEGIN:VCALENDAR
VERSION:2.0
PRODID:-//ChamberMaster//Event Calendar 2.0//EN
METHOD:PUBLISH
X-PUBLISHED-TTL:P3D
REFRESH-INTERVAL:P3D
CALSCALE:GREGORIAN
BEGIN:VEVENT
DTSTART:20250412T000000Z
DTEND:20250412T023000Z
X-MICROSOFT-CDO-ALLDAYEVENT:FALSE
SUMMARY:Englewood Arts Presents: I Exist Project
DESCRIPTION:The I Exist Project brings together a diverse ensemble of talented queer composers and performers\, showcasing their unique voices and experiences through innovative and inspiring works.\n\nJoin us for an evening of music celebrating the vibrant tapestry of queer life. Grab your tickets now for an evening of joyous music featuring local musicians\, Nick May & Alex Li.\n\n \n\nThe I Exist Project: Through the creation and promotion of queer music and art\, we unleash the powerful resonance of our voices\, aiming to ignite profound and lasting change within society. By showcasing the vibrant tapestry of queer artistic expressions\, we transcend barriers and defy attempts to marginalize us. We firmly believe in the extraordinary capacity of art\, in all its boundless forms\, to challenge societal norms\, evoke empathy\, and stimulate meaningful conversations that bring about transformative shifts. By advocating for the recognition and appreciation of queer culture\, we strive to foster a world where acceptance\, equality\, and understanding prevail.
X-ALT-DESC;FMTTYPE=text/html:<p>The I Exist Project brings together a diverse ensemble of talented queer composers and performers\, showcasing their unique voices and experiences through innovative and inspiring works.</p>\n\n<p>Join us for an evening of music celebrating the vibrant tapestry of queer life. Grab your tickets now for an evening of joyous music featuring local musicians\, Nick May &amp\; Alex Li.</p>\n\n<p>&nbsp\;</p>\n\n<p><a href="http://iexistprject.org/" rel="nofollow noopener noreferrer" style="background-color: transparent\; color: var(--eds-control\,#3659e3)\; box-sizing: border-box\; padding-top: 0px\; scroll-behavior: auto !important\;" target="_blank" title="http://iexistprject.org/">The I Exist Project</a>: Through the creation and promotion of queer music and art\, we unleash the powerful resonance of our voices\, aiming to ignite profound and lasting change within society. By showcasing the vibrant tapestry of queer artistic expressions\, we transcend barriers and defy attempts to marginalize us. We firmly believe in the extraordinary capacity of art\, in all its boundless forms\, to challenge societal norms\, evoke empathy\, and stimulate meaningful conversations that bring about transformative shifts. By advocating for the recognition and appreciation of queer culture\, we strive to foster a world where acceptance\, equality\, and understanding prevail.</p>\n
LOCATION:Englewood Arts 10901 E Winner Rd Independence\, MO 64052
UID:e.2043.17717
SEQUENCE:3
DTSTAMP:20260426T002526Z
URL:https://business.ichamber.biz/events/details/englewood-arts-presents-i-exist-project-17717
END:VEVENT

END:VCALENDAR
