BEGIN:VCALENDAR
VERSION:2.0
PRODID:-//ChamberMaster//Event Calendar 2.0//EN
METHOD:PUBLISH
X-PUBLISHED-TTL:P3D
REFRESH-INTERVAL:P3D
CALSCALE:GREGORIAN
BEGIN:VEVENT
DTSTART:20250426T000000Z
DTEND:20250426T030000Z
X-MICROSOFT-CDO-ALLDAYEVENT:FALSE
SUMMARY:Englewood Arts presents Kirstie Lynn\, Heath Church and Day Shepherd Live
DESCRIPTION:Join us for an unforgettable night of live music featuring Kirstie Lynn\, Heath Church\, and Day Shepherd at Englewood Arts! Experience an evening of heartfelt storytelling\, soulful melodies\, and raw acoustic talent in an intimate setting.\n\n?? Date: Thursday\, April 25\n\n? Time: 7:00 PM\n\n?? Location: Englewood Arts\, 10901 East Winter Rd\n\n??? Tickets: Available now!\n\nThis event is 18+ or with guardian. Don't miss out on this special night of music grab your tickets today!
X-ALT-DESC;FMTTYPE=text/html:<p>Join us for an unforgettable night of live music featuring&nbsp\;<strong>Kirstie Lynn\, Heath Church\, and Day Shepherd</strong>&nbsp\;at Englewood Arts! Experience an evening of heartfelt storytelling\, soulful melodies\, and raw acoustic talent in an intimate setting.</p>\n\n<p>??&nbsp\;<strong>Date:</strong>&nbsp\;Thursday\, April 25<br />\n?&nbsp\;<strong>Time:</strong>&nbsp\;7:00 PM<br />\n??&nbsp\;<strong>Location:</strong>&nbsp\;Englewood Arts\, 10901 East Winter Rd<br />\n???&nbsp\;<strong>Tickets:</strong>&nbsp\;Available now!</p>\n\n<p>This event is&nbsp\;<strong>18+</strong>&nbsp\;or with guardian. Don&rsquo\;t miss out on this special night of music&mdash\;grab your tickets today!</p>\n
LOCATION:Englewood Arts 10901 East Winner Road Independence\, MO 64052
UID:e.2043.17709
SEQUENCE:3
DTSTAMP:20260426T014459Z
URL:https://business.ichamber.biz/events/details/englewood-arts-presents-kirstie-lynn-heath-church-and-day-shepherd-live-17709
END:VEVENT

END:VCALENDAR
