BEGIN:VCALENDAR
VERSION:2.0
PRODID:-//ChamberMaster//Event Calendar 2.0//EN
METHOD:PUBLISH
X-PUBLISHED-TTL:P3D
REFRESH-INTERVAL:P3D
CALSCALE:GREGORIAN
BEGIN:VEVENT
DTSTART:20240511T000000Z
DTEND:20240511T020000Z
X-MICROSOFT-CDO-ALLDAYEVENT:FALSE
SUMMARY:Englewood Arts Presents: Motherwind
DESCRIPTION:Experience the music of Motherwind with special guests: Ivory Blue and Heath Church on Friday\, May 10th\; 7 PM.
X-ALT-DESC;FMTTYPE=text/html:Experience the music of Motherwind with special guests: Ivory Blue and Heath Church on Friday\, May 10th\; 7 PM.
LOCATION:Englewood Arts 10901 E Winner Rd Independence\, MO 64052
UID:e.2043.16277
SEQUENCE:3
DTSTAMP:20260421T104505Z
URL:https://business.ichamber.biz/events/details/englewood-arts-presents-motherwind-16277
END:VEVENT

END:VCALENDAR
