BEGIN:VCALENDAR
VERSION:2.0
PRODID:-//ChamberMaster//Event Calendar 2.0//EN
METHOD:PUBLISH
X-PUBLISHED-TTL:P3D
REFRESH-INTERVAL:P3D
CALSCALE:GREGORIAN
BEGIN:VEVENT
DTSTART:20250510T000000Z
DTEND:20250510T030000Z
X-MICROSOFT-CDO-ALLDAYEVENT:FALSE
SUMMARY:Englewood Arts presents PAGANOVA
DESCRIPTION:"Sophisticated piano work"\n\nInside Chicago Magazine\n\n"Michael Pag n is a musician/educator and an excellent mainstream jazz pianist who deserves a lot more renown."\n\nBill Falconer\, JazzReview.com\n\n"Dynamite piano stylings . . . his performance was jazz-inspired through-and-through and the audience loved it."\n\nDominic Papatola\, Duluth News-Tribune\n\n"A versatile keyboard improviser"\n\nDownbeat Magazine\n\n" . . . unmatched piano virtuosity . . . Michael's keyboard skill is unbelievable. . . a memorable evening of superior jazz."\n\nEd Fenner\, KC Jazz Voice LLC\n\n" . . . the brilliant\, intense jazz pianist Michael Pagan."\n\nHearne Christopher\, KC Confidential
X-ALT-DESC;FMTTYPE=text/html:<p>&ldquo\;Sophisticated piano work&rdquo\;<br />\n<em>Inside Chicago Magazine</em></p>\n\n<p>&ldquo\;Michael Pag&aacute\;n is a musician/educator and an excellent mainstream jazz pianist who deserves a lot more renown.&rdquo\;<br />\n<em>Bill Falconer\, JazzReview.com</em></p>\n\n<p>&ldquo\;Dynamite piano stylings . . . his performance was jazz-inspired through-and-through and the audience loved it.&rdquo\;<br />\n<em>Dominic Papatola\, Duluth News-Tribune</em></p>\n\n<p>&ldquo\;A versatile keyboard improviser&rdquo\;<br />\n<em>Downbeat Magazine</em></p>\n\n<p>&ldquo\; . . . unmatched piano virtuosity . . . Michael&rsquo\;s keyboard skill is unbelievable. . . a memorable evening of superior jazz.&rdquo\;<br />\n<em>Ed Fenner\, KC Jazz Voice LLC</em></p>\n\n<p>&quot\; . . . the brilliant\, intense jazz pianist Michael Pagan.&quot\;<br />\n<em>Hearne Christopher\, KC Confidential</em></p>\n
LOCATION:Englewood Arts 10901 East Winner Road Independence\, MO 64052
UID:e.2043.17710
SEQUENCE:3
DTSTAMP:20260425T230428Z
URL:https://business.ichamber.biz/events/details/englewood-arts-presents-paganova-17710
END:VEVENT

END:VCALENDAR
