BEGIN:VCALENDAR
VERSION:2.0
PRODID:-//ChamberMaster//Event Calendar 2.0//EN
METHOD:PUBLISH
X-PUBLISHED-TTL:P3D
REFRESH-INTERVAL:P3D
CALSCALE:GREGORIAN
BEGIN:VEVENT
DTSTART;VALUE=DATE:20250408
DTEND;VALUE=DATE:20250409
TRANSP:TRANSPARENT
X-MICROSOFT-CDO-ALLDAYEVENT:TRUE
SUMMARY:Englewood Arts presents Teri Quinn\, Gracie Caggiano\, and Aud Whitson Live
DESCRIPTION:Englewood Arts is thrilled to present an unforgettable evening featuring Teri Quinn\, Gracie Caggiano\, and Aud Whitson live at 10901 E Winner Rd. Get ready for a night filled with incredible performances by these talented artists. Join us for a night of music\, laughter\, and good vibes. Don't miss out on this special event!
X-ALT-DESC;FMTTYPE=text/html:<strong>Englewood Arts</strong><span style="color:rgb(111\, 114\, 135)\; font-family:neue plak\,-apple-system\,blinkmacsystemfont\,roboto\,helvetica neue\,helvetica\,tahoma\,arial\,sans-serif\; font-size:16px">&nbsp\;is thrilled to present an unforgettable evening featuring&nbsp\;</span><strong>Teri Quinn</strong><span style="color:rgb(111\, 114\, 135)\; font-family:neue plak\,-apple-system\,blinkmacsystemfont\,roboto\,helvetica neue\,helvetica\,tahoma\,arial\,sans-serif\; font-size:16px">\,&nbsp\;</span><strong>Gracie Caggiano</strong><span style="color:rgb(111\, 114\, 135)\; font-family:neue plak\,-apple-system\,blinkmacsystemfont\,roboto\,helvetica neue\,helvetica\,tahoma\,arial\,sans-serif\; font-size:16px">\, and&nbsp\;</span><strong>Aud Whitson</strong><span style="color:rgb(111\, 114\, 135)\; font-family:neue plak\,-apple-system\,blinkmacsystemfont\,roboto\,helvetica neue\,helvetica\,tahoma\,arial\,sans-serif\; font-size:16px">&nbsp\;live at 10901 E Winner Rd. Get ready for a night filled with incredible performances by these talented artists. Join us for a night of music\, laughter\, and good vibes. Don&#39\;t miss out on this special event!</span>
LOCATION:Englewood Arts 10901 E Winner Rd Independence\, MO 64052
UID:e.2043.17708
SEQUENCE:3
DTSTAMP:20260426T003147Z
URL:https://business.ichamber.biz/events/details/englewood-arts-presents-teri-quinn-gracie-caggiano-and-aud-whitson-live-17708
END:VEVENT

END:VCALENDAR
