BEGIN:VCALENDAR
VERSION:2.0
PRODID:-//ChamberMaster//Event Calendar 2.0//EN
METHOD:PUBLISH
X-PUBLISHED-TTL:P3D
REFRESH-INTERVAL:P3D
CALSCALE:GREGORIAN
BEGIN:VEVENT
DTSTART:20180821T210000Z
DTEND:20180821T220000Z
X-MICROSOFT-CDO-ALLDAYEVENT:FALSE
SUMMARY:Expo Brainstorming Meeting
DESCRIPTION:Participants of the Independence Regional Business Expo are invited to provide valuable input on enhancing future Expo events during this brainstorming session.
X-ALT-DESC;FMTTYPE=text/html:<span style="font-size: 16px\;">Participants of the Independence Regional Business Expo are invited to provide</span><span style="font-size:12.0pt\;">&nbsp\;valuable input on enhancing future Expo events during this brainstorming session.&nbsp\; &nbsp\;&nbsp\;</span>
LOCATION:Independence Chamber of Commerce 210 W. Truman Road Independence\, MO 64050
UID:e.2043.8425
SEQUENCE:3
DTSTAMP:20260424T103215Z
URL:https://business.ichamber.biz/events/details/expo-brainstorming-meeting-8425
END:VEVENT

END:VCALENDAR
