BEGIN:VCALENDAR
VERSION:2.0
PRODID:-//ChamberMaster//Event Calendar 2.0//EN
METHOD:PUBLISH
X-PUBLISHED-TTL:P3D
REFRESH-INTERVAL:P3D
CALSCALE:GREGORIAN
BEGIN:VEVENT
DTSTART:20190525T190000Z
DTEND:20190525T200000Z
X-MICROSOFT-CDO-ALLDAYEVENT:FALSE
SUMMARY:Family Heirlooms: Look Ahead\, Look Behind
DESCRIPTION:Family stories are heirlooms that take us around the world and put us in touch with our heritage. Discover your family stories\, and learn how they influence your life today.
X-ALT-DESC;FMTTYPE=text/html:<span style="background-color:rgb(245\, 245\, 245)\; font-family:helvetica neue\,helvetica\,arial\,sans-serif\; font-size:14px">Family stories are heirlooms that take us around the world and put us in touch with our heritage. Discover your family stories\, and learn how they influence your life today.</span>
LOCATION:Midwest Genealogy Center
UID:e.2043.9513
SEQUENCE:3
DTSTAMP:20260424T235530Z
URL:https://business.ichamber.biz/events/details/family-heirlooms-look-ahead-look-behind-9513
END:VEVENT

END:VCALENDAR
