BEGIN:VCALENDAR
VERSION:2.0
PRODID:-//ChamberMaster//Event Calendar 2.0//EN
METHOD:PUBLISH
X-PUBLISHED-TTL:P3D
REFRESH-INTERVAL:P3D
CALSCALE:GREGORIAN
BEGIN:VEVENT
DTSTART:20190221T003000Z
DTEND:20190221T013000Z
X-MICROSOFT-CDO-ALLDAYEVENT:FALSE
SUMMARY:Finding Your Italian Ancestors: Italian Civil Registration Records
DESCRIPTION:If you have located where in the home country your ancestors are from\, this class will show you how to locate and request Italian civil records online to discover more about them. Participants will learn about the history of recordkeeping in Italy\, the types of records available\, and how to extract information from them.
X-ALT-DESC;FMTTYPE=text/html:<span style="background-color:rgb(245\, 245\, 245)\; color:rgb(51\, 51\, 51)\; font-family:helvetica neue\,helvetica\,arial\,sans-serif\; font-size:14px">If you have located where in the home country your ancestors are from\, this class will show you how to locate and request Italian civil records online to discover more about them. Participants will learn about the history of recordkeeping in Italy\, the types of records available\, and how to extract information from them.</span>
LOCATION:Midwest Genealogy Center 3440 S. Lee's Summit Road Independence\, MO 64055-1923
UID:e.2043.9022
SEQUENCE:3
DTSTAMP:20260424T200428Z
URL:https://business.ichamber.biz/events/details/finding-your-italian-ancestors-italian-civil-registration-records-9022
END:VEVENT

END:VCALENDAR
