BEGIN:VCALENDAR
VERSION:2.0
PRODID:-//ChamberMaster//Event Calendar 2.0//EN
METHOD:PUBLISH
X-PUBLISHED-TTL:P3D
REFRESH-INTERVAL:P3D
CALSCALE:GREGORIAN
BEGIN:VEVENT
DTSTART:20180309T133000Z
DTEND:20180309T150000Z
X-MICROSOFT-CDO-ALLDAYEVENT:FALSE
SUMMARY:First Responder's Breakfast
DESCRIPTION:Honoring the Men and Women that protect our city every day.\n\n\n\nAnnually\, the Independence Chamber recognizes and gives thanks to our local first responders for the significant and highly valued contributions they provide to the businesses and citizens in the City of Independence. \n\n\n\nAs part of this annual recognition\, four awards are bestowed on behalf of the Independence business community to members of the local First Responder family:\n\n	Heroism\n	Community Service\n	Bravery\n	Dedication
X-ALT-DESC;FMTTYPE=text/html:Honoring the Men and Women that protect our city every day.<br />\n<br />\n<span style="color: rgb(51\, 51\, 51)\; font-family: sans-serif\, Arial\, Verdana\, &quot\;Trebuchet MS&quot\;\; font-size: 13px\; background-color: rgb(255\, 255\, 255)\;">Annually\, the Independence Chamber recognizes and gives&nbsp\;thanks&nbsp\;to our local first responders for the significant and highly valued contributions they provide to the businesses and citizens in the&nbsp\;City of Independence.&nbsp\;</span><br style="color: rgb(51\, 51\, 51)\; font-family: sans-serif\, Arial\, Verdana\, &quot\;Trebuchet MS&quot\;\; font-size: 13px\;" />\n<br style="color: rgb(51\, 51\, 51)\; font-family: sans-serif\, Arial\, Verdana\, &quot\;Trebuchet MS&quot\;\; font-size: 13px\;" />\n<span style="color: rgb(51\, 51\, 51)\; font-family: sans-serif\, Arial\, Verdana\, &quot\;Trebuchet MS&quot\;\; font-size: 13px\; background-color: rgb(255\, 255\, 255)\;">As part of this annual recognition\, four awards are bestowed on behalf&nbsp\;of the Independence business community to members of the local First&nbsp\;Responder family:</span>\n<ul style="padding: 0px 40px\; color: rgb(51\, 51\, 51)\; font-family: sans-serif\, Arial\, Verdana\, &quot\;Trebuchet MS&quot\;\; font-size: 13px\;">\n	<li>Heroism</li>\n	<li>Community Service</li>\n	<li>Bravery</li>\n	<li>Dedication</li>\n</ul>\n&nbsp\;\n\n<div>&nbsp\;</div>\n
LOCATION:Truman Memorial Building 416 W Maple Avenue Independence\, MO 64050
UID:e.2043.6153
SEQUENCE:3
DTSTAMP:20260424T045250Z
URL:https://business.ichamber.biz/events/details/first-responder-s-breakfast-03-09-2018-6153
END:VEVENT

END:VCALENDAR
