BEGIN:VCALENDAR
VERSION:2.0
PRODID:-//ChamberMaster//Event Calendar 2.0//EN
METHOD:PUBLISH
X-PUBLISHED-TTL:P3D
REFRESH-INTERVAL:P3D
CALSCALE:GREGORIAN
BEGIN:VEVENT
DTSTART:20190531T213000Z
DTEND:20190601T020000Z
X-MICROSOFT-CDO-ALLDAYEVENT:FALSE
SUMMARY:Food Truck Face Off
DESCRIPTION:KC Food Truck Face-Off showcases the next generation of Kansas City's food truck scene. In this freindly food competition\, you get to be the judge!!! Eat quarter sizeed entrees from each of the competing food trucks\, drink beer and spirits from local breweries and distilleries\, and be merry with yard games and more as local critics crituque each entree and award the Critic's Choice Adward. Use the promo code FoodTruck19 to get $5 off your ticket price after April 5th. \n\n\n\n2019 Rookie Class: \n\nKC Cajun\n\nMattie's Vegan Eats\n\nNikki G's Vegan SoulQ Bistro\n\nDa Poke Wagon\n\nUrban Cafe KC\n\n\n\nYou get to vote who is deemed the 2019 Rookie Food Truck of the Year!!
X-ALT-DESC;FMTTYPE=text/html:KC Food Truck Face-Off showcases the next generation of Kansas City&#39\;s food truck scene. In this freindly food competition\, you get to be the judge!!! Eat quarter sizeed entrees from each of the competing food trucks\, drink beer and spirits from local breweries and distilleries\, and be merry with yard games and more as local critics crituque each entree and award the Critic&#39\;s Choice Adward. Use the&nbsp\;<span style="font-family:calibri\,sans-serif\;"><span style="font-size:11.0pt\;">promo code <strong>FoodTruck19 </strong>to get $5 off your ticket price after April 5th.&nbsp\;</span></span><br />\n<br />\n2019 Rookie Class:&nbsp\;<br />\nKC Cajun<br />\nMattie&#39\;s Vegan Eats<br />\nNikki G&#39\;s Vegan SoulQ Bistro<br />\nDa Poke Wagon<br />\nUrban Cafe KC<br />\n<br />\nYou get to vote who is deemed the 2019 Rookie Food Truck of the Year!!
LOCATION:Independence Chamber of Commerce
UID:e.2043.9507
SEQUENCE:3
DTSTAMP:20260424T223930Z
URL:https://business.ichamber.biz/events/details/food-truck-face-off-9507
END:VEVENT

END:VCALENDAR
