BEGIN:VCALENDAR
VERSION:2.0
PRODID:-//ChamberMaster//Event Calendar 2.0//EN
METHOD:PUBLISH
X-PUBLISHED-TTL:P3D
REFRESH-INTERVAL:P3D
CALSCALE:GREGORIAN
BEGIN:VEVENT
DTSTART:20200605T110000Z
DTEND:20200606T030000Z
X-MICROSOFT-CDO-ALLDAYEVENT:FALSE
SUMMARY:Foodie Friday: Black Bear Diner
DESCRIPTION:Join the Chamber in supporting our member\, Black Bear Diner! They are open for curbside\, carryout\, and dine-in (with limited capacity) from 6am-10pm. Make sure you share your pictures with us on Facebook!
X-ALT-DESC;FMTTYPE=text/html:Join the Chamber in supporting our member\, Black Bear Diner! They are open for curbside\, carryout\, and dine-in (with limited capacity) from 6am-10pm. Make sure you share your pictures with us on Facebook!&nbsp\;
LOCATION:Black Bear Diner\, 4053 S Little Blue Pkwy\, Independence\, MO 64057
UID:e.2043.12879
SEQUENCE:3
DTSTAMP:20260425T115641Z
URL:https://business.ichamber.biz/events/details/foodie-friday-black-bear-diner-12879
END:VEVENT

END:VCALENDAR
