BEGIN:VCALENDAR
VERSION:2.0
PRODID:-//ChamberMaster//Event Calendar 2.0//EN
METHOD:PUBLISH
X-PUBLISHED-TTL:P3D
REFRESH-INTERVAL:P3D
CALSCALE:GREGORIAN
BEGIN:VEVENT
DTSTART:20200508T210000Z
DTEND:20200509T010000Z
X-MICROSOFT-CDO-ALLDAYEVENT:FALSE
SUMMARY:Foodie Friday Curbside Edition: Salvatore's Italian Restaurant
DESCRIPTION:Join us for a special edition of Foodie Friday: Curbside! Salvatore's is open between 4pm-8pm for dinner.\n\nCall 816.737.2400 to order. Click here for the menu\n\nTake a selfie with your meal and post it on Facebook!
X-ALT-DESC;FMTTYPE=text/html:Join us for a special edition of Foodie Friday: Curbside! Salvatore&#39\;s is open between 4pm-8pm for dinner.<br />\nCall 816.737.2400 to order. <a href="https://salvatores.us/dinner-menu">Click here for the menu</a><br />\nTake a selfie with your meal and post it on Facebook!&nbsp\;<br />\n<br />\n<br />\n<br />\n&nbsp\;
LOCATION:12801 E. 40 HWY\, INDEPENDENCE\, MO 64055\, US
UID:e.2043.12876
SEQUENCE:3
DTSTAMP:20260425T105218Z
URL:https://business.ichamber.biz/events/details/foodie-friday-curbside-edition-salvatore-s-italian-restaurant-12876
END:VEVENT

END:VCALENDAR
