BEGIN:VCALENDAR
VERSION:2.0
PRODID:-//ChamberMaster//Event Calendar 2.0//EN
METHOD:PUBLISH
X-PUBLISHED-TTL:P3D
REFRESH-INTERVAL:P3D
CALSCALE:GREGORIAN
BEGIN:VEVENT
DTSTART:20200501T160000Z
DTEND:20200502T020000Z
X-MICROSOFT-CDO-ALLDAYEVENT:FALSE
SUMMARY:Foodie Friday Drive Thru Edition: Mugs Up Root Beer
DESCRIPTION:Join us for a special edition of Foodie Friday Drive Thru! We have extended the hours to be any time between 11am-9pm for lunch or dinner. Take a selfie with your meal and post it on Facebook!
X-ALT-DESC;FMTTYPE=text/html:<span background-color:="" font-size:="" style="color: rgb(51\, 51\, 51)\; font-family: sans-serif\, Arial\, Verdana\, " trebuchet="">Join us for a special edition of Foodie Friday Drive Thru! We have extended the hours to be any time between 11am-9pm for lunch or dinner. Take a selfie with your meal and post it on Facebook!&nbsp\;</span><br />\n&nbsp\;
LOCATION:700 East 23rd St S Independence MO 64055
UID:e.2043.12873
SEQUENCE:3
DTSTAMP:20260425T104925Z
URL:https://business.ichamber.biz/events/details/foodie-friday-drive-thru-edition-mugs-up-root-beer-12873
END:VEVENT

END:VCALENDAR
