BEGIN:VCALENDAR
VERSION:2.0
PRODID:-//ChamberMaster//Event Calendar 2.0//EN
METHOD:PUBLISH
X-PUBLISHED-TTL:P3D
REFRESH-INTERVAL:P3D
CALSCALE:GREGORIAN
BEGIN:VEVENT
DTSTART:20220114T173000Z
DTEND:20220114T183000Z
X-MICROSOFT-CDO-ALLDAYEVENT:FALSE
SUMMARY:Foodie Friday: Hereford House
DESCRIPTION:Kick off KC Restaurant Week with us at Hereford House! Guests will be able to choose from a lunch specials menu featured for KC Restaurant Week or the restaurant's regular menu. \n\n \n\nHereford House Restaurant Week 2022 Lunch Menu \n\n- $15 -\n\n\n\nStarter or Dessert (Please select one)\n\nCup of Steak Soup \n\n1957 Salad \n\nDouble Chocolate Fudge Brownie \n\n\n\nSecond Course (Please select one)\n\nSteakburger with Cheese \n\nHouse-ground Certified Hereford Beef blend of Kansas City Strip\, Filet Mignon\, and Ribeye\, Lettuce\, Tomato\, Onion\, Pickles\, Brioche Bun\,  Served with Seasoned Fries \n\n\n\nKC Hot Honey Chicken Sandwich \n\nFried Chicken Breast\, KC Hot Honey Sauce\, Blue Cheese Crumbles\, Brioche Bun\, Served with Seasoned Fries \n\n\n\nSPECIAL \n\nSoup + Salad + Dessert Combo \n\nIncludes: \n\nBowl of Steak Soup\, 1957 Salad\, and Double Chocolate Fudge Brownie
X-ALT-DESC;FMTTYPE=text/html:<div>Kick off KC Restaurant Week with us at Hereford House! Guests will be able to choose from a lunch specials menu featured for KC Restaurant Week or the restaurant&#39\;s regular menu.&nbsp\;<br />\n&nbsp\;</div>\n\n<div style="text-align: center\;"><strong>Hereford House&nbsp\;Restaurant Week 2022&nbsp\;Lunch Menu</strong>&nbsp\;<br />\n- $15 -<br />\n<br />\n<strong>Starter or Dessert (Please select one)</strong><br />\nCup of Steak Soup&nbsp\;<br />\n1957 Salad&nbsp\;<br />\nDouble Chocolate Fudge Brownie&nbsp\;<br />\n<br />\n<strong>Second Course (Please select one)</strong></div>\n\n<div style="text-align: center\;">Steakburger with Cheese&nbsp\;<br />\nHouse-ground Certified Hereford Beef blend of Kansas City Strip\, Filet Mignon\, and Ribeye\, Lettuce\, Tomato\, Onion\, Pickles\, Brioche Bun\,&nbsp\;&nbsp\;Served with Seasoned Fries&nbsp\;<br />\n<br />\nKC Hot Honey Chicken Sandwich&nbsp\;<br />\nFried Chicken Breast\, KC Hot Honey Sauce\, Blue Cheese Crumbles\, Brioche Bun\, Served with Seasoned Fries&nbsp\;<br />\n<br />\n<strong>SPECIAL&nbsp\;<br />\nSoup + Salad + Dessert Combo&nbsp\;</strong><br />\nIncludes:&nbsp\;<br />\nBowl of Steak Soup\, 1957 Salad\, and Double Chocolate Fudge Brownie</div>\n
LOCATION:19721 E Jackson Dr\, Independence\, MO 64057
UID:e.2043.14218
SEQUENCE:3
DTSTAMP:20260423T203701Z
URL:https://business.ichamber.biz/events/details/foodie-friday-hereford-house-14218
END:VEVENT

END:VCALENDAR
